BEGIN:VCALENDAR
VERSION:2.0
PRODID:-//Maison Jacques Prévert - ECPv6.15.20//NONSGML v1.0//EN
CALSCALE:GREGORIAN
METHOD:PUBLISH
X-ORIGINAL-URL:https://www.maisonjacquesprevert.fr
X-WR-CALDESC:Évènements pour Maison Jacques Prévert
REFRESH-INTERVAL;VALUE=DURATION:PT1H
X-Robots-Tag:noindex
X-PUBLISHED-TTL:PT1H
BEGIN:VTIMEZONE
TZID:Europe/Paris
BEGIN:DAYLIGHT
TZOFFSETFROM:+0100
TZOFFSETTO:+0200
TZNAME:CEST
DTSTART:20230326T010000
END:DAYLIGHT
BEGIN:STANDARD
TZOFFSETFROM:+0200
TZOFFSETTO:+0100
TZNAME:CET
DTSTART:20231029T010000
END:STANDARD
BEGIN:DAYLIGHT
TZOFFSETFROM:+0100
TZOFFSETTO:+0200
TZNAME:CEST
DTSTART:20240331T010000
END:DAYLIGHT
BEGIN:STANDARD
TZOFFSETFROM:+0200
TZOFFSETTO:+0100
TZNAME:CET
DTSTART:20241027T010000
END:STANDARD
BEGIN:DAYLIGHT
TZOFFSETFROM:+0100
TZOFFSETTO:+0200
TZNAME:CEST
DTSTART:20250330T010000
END:DAYLIGHT
BEGIN:STANDARD
TZOFFSETFROM:+0200
TZOFFSETTO:+0100
TZNAME:CET
DTSTART:20251026T010000
END:STANDARD
END:VTIMEZONE
BEGIN:VEVENT
DTSTART;TZID=Europe/Paris:20240318T084500
DTEND;TZID=Europe/Paris:20240318T103000
DTSTAMP:20260424T035342
CREATED:20240315T134818Z
LAST-MODIFIED:20240315T134818Z
UID:720-1710751500-1710757800@www.maisonjacquesprevert.fr
SUMMARY:Café parents 18 mars
DESCRIPTION:Café-parents 18 mars : construction et préparation d’une animation de quartier : Pâques et d’une sortie famille sur l’été. \nRdv à partir de 8h45 à la Maison Jacques Prévert \nOuvert à tous et gratuit. \nInformations auprès d’Augustine 06.49.23.75.49
URL:https://www.maisonjacquesprevert.fr/evenement/cafe-parents-18-mars/
LOCATION:Micro-folie (Maison Jacques Prévert)\, Rue Montigny\, Dieppe\, 76200\, France
CATEGORIES:Événement à la une,Famille,Maison Jacques Prévert
ATTACH;FMTTYPE=image/jpeg:https://www.maisonjacquesprevert.fr/wp-content/uploads/2024/02/340615454_1030870831650586_2573022980606168557_n.jpg
ORGANIZER;CN="Maison Jacques Pr%C3%A9vert":MAILTO:contact@maisonjacquesprevert.fr
END:VEVENT
BEGIN:VEVENT
DTSTART;TZID=Europe/Paris:20240319T105000
DTEND;TZID=Europe/Paris:20240319T120000
DTSTAMP:20260424T035342
CREATED:20240315T105200Z
LAST-MODIFIED:20240315T105236Z
UID:953-1710845400-1710849600@www.maisonjacquesprevert.fr
SUMMARY:Animation Jeune Public
DESCRIPTION:Une animation jeune public petit contes de la forêt profonde a lieu le samedi 16 mars à 15h et à 16h30 à Tactil’lou Fable. \nAinsi qu’une séance baby gym le mardi 19 mars à 10h50 au Gymnase Desjardins. \nRéservation au 06 42 42 14 98 \nGRATUIT
URL:https://www.maisonjacquesprevert.fr/evenement/953/
CATEGORIES:Événement à la une,Maison Jacques Prévert,Petite enfance - Parentalité
ATTACH;FMTTYPE=image/jpeg:https://www.maisonjacquesprevert.fr/wp-content/uploads/2024/03/Capture-decran-2024-03-15-a-11.48.04.jpg
END:VEVENT
BEGIN:VEVENT
DTSTART;TZID=Europe/Paris:20240321T093000
DTEND;TZID=Europe/Paris:20240321T120000
DTSTAMP:20260424T035342
CREATED:20240319T105915Z
LAST-MODIFIED:20240319T105915Z
UID:984-1711013400-1711022400@www.maisonjacquesprevert.fr
SUMMARY:Cuisine avec la petite conserverie
DESCRIPTION:Un atelier cuisine est organisé ce jeudi 21 mars de 9h30 à 12h. \nVous êtes passionné(e) de cuisine ou simplement curieux(se) de découvrir de nouvelle saveurs ? alors ne manquez pas notre atelier cuisine avec La petite conserverie. \nUne expérience unique pour apprendre à concocter des délices maison. \n#Cuisine #PetiteConserverie #MaisonJacquesPrévert
URL:https://www.maisonjacquesprevert.fr/evenement/cuisine-avec-la-petite-conserverie/
LOCATION:Maison Jacques Prévert\, Rue Montigny\, Dieppe\, 76200\, France
CATEGORIES:Événement à la une,Fabrique / Adultes,Maison Jacques Prévert
ATTACH;FMTTYPE=image/jpeg:https://www.maisonjacquesprevert.fr/wp-content/uploads/2024/03/cuisine-1.jpg
ORGANIZER;CN="Maison Jacques Pr%C3%A9vert":MAILTO:contact@maisonjacquesprevert.fr
END:VEVENT
BEGIN:VEVENT
DTSTART;TZID=Europe/Paris:20240321T140000
DTEND;TZID=Europe/Paris:20240321T144500
DTSTAMP:20260424T035342
CREATED:20240319T131136Z
LAST-MODIFIED:20240319T131136Z
UID:990-1711029600-1711032300@www.maisonjacquesprevert.fr
SUMMARY:Gym douce
DESCRIPTION:Reconnectez-vous avec votre corps et votre esprit lors de notre séance de gym douce ce jeudi 21 mars à 14h en compagnie des adhérents de la Maison Jacques Prévert ! \nRejoignez-nous pour une petite heure de détente et de bien être pour des exercices simples afin de renforcer nos muscles\, améliorer notre souplesse et apaiser notre esprit. \n#MaisonJacquesPrévert #GymDouce #BienÊtre
URL:https://www.maisonjacquesprevert.fr/evenement/gym-douce/
LOCATION:Salle Mille Club\, rue Léon Rogé (Janval)\, Dieppe\, 76200
CATEGORIES:Événement à la une,Fabrique / Adultes,Maison Jacques Prévert
ATTACH;FMTTYPE=image/jpeg:https://www.maisonjacquesprevert.fr/wp-content/uploads/2024/03/gym-douce-1.jpg
ORGANIZER;CN="Maison Jacques Pr%C3%A9vert":MAILTO:contact@maisonjacquesprevert.fr
END:VEVENT
BEGIN:VEVENT
DTSTART;TZID=Europe/Paris:20240322T090000
DTEND;TZID=Europe/Paris:20240322T120000
DTSTAMP:20260424T035342
CREATED:20240319T160448Z
LAST-MODIFIED:20240319T160552Z
UID:1031-1711098000-1711108800@www.maisonjacquesprevert.fr
SUMMARY:Petite Marche
DESCRIPTION:Prêt pour une longue marche ? La Fabrique vous invite lors d’une activité « Petite Marche » ce vendredi 22 mars ! Les adhérents se retrouveront pour une marche ensemble à Montigny Les-Cents-Acres sur un parcours de 6\,7 km. \nProfitez de cette occasion pour respirer l’air frais\, vous détendre au milieu de la nature et faire un peu d’exercice en bonne compagnies. \nRendez-vous à la MJP avec des chaussures confortables\, une bouteille d’eau et votre plus beau sourire ! \n#PetiteMarche #Montigny #LesCentsAcre
URL:https://www.maisonjacquesprevert.fr/evenement/petite-marche/
CATEGORIES:Événement à la une,Fabrique / Adultes,Maison Jacques Prévert
ATTACH;FMTTYPE=image/jpeg:https://www.maisonjacquesprevert.fr/wp-content/uploads/2024/03/on-marche-1.jpg
END:VEVENT
BEGIN:VEVENT
DTSTART;TZID=Europe/Paris:20240322T100000
DTEND;TZID=Europe/Paris:20240322T120000
DTSTAMP:20260424T035342
CREATED:20240319T155003Z
LAST-MODIFIED:20240320T100736Z
UID:1028-1711101600-1711108800@www.maisonjacquesprevert.fr
SUMMARY:Si on chantait !
DESCRIPTION:Envie de laisser libre cours à votre voix et de montrer vos talents de chant ? Rejoignez-nous pour notre activité  »Si on chantait » ce vendredi 22 mars de 10h à 12h ! \nPas besoin d’être professionnel\, l’important est de partager notre passion pour la musique et de s’amuser ensemble ! \n#SiOnChantait #Musique #Convivialité
URL:https://www.maisonjacquesprevert.fr/evenement/si-on-chantait/
CATEGORIES:Événement à la une,Fabrique / Adultes,Maison Jacques Prévert
ATTACH;FMTTYPE=image/jpeg:https://www.maisonjacquesprevert.fr/wp-content/uploads/2024/03/si-on-chantait.jpg
END:VEVENT
BEGIN:VEVENT
DTSTART;TZID=Europe/Paris:20240322T103000
DTEND;TZID=Europe/Paris:20240322T111500
DTSTAMP:20260424T035342
CREATED:20240315T105647Z
LAST-MODIFIED:20240315T105919Z
UID:959-1711103400-1711106100@www.maisonjacquesprevert.fr
SUMMARY:Projet Babil
DESCRIPTION:Création musicale pour les enfants de 1 à 3 ans accompagnés d’un parent. \nDe 10h30 à 11h15 le \n22 mars/19 avril/24 mai/14 juin à Tactil’lou Fable \nRestitution le 2 juillet à la MJP
URL:https://www.maisonjacquesprevert.fr/evenement/959/
CATEGORIES:Événement à la une,Maison Jacques Prévert,Petite enfance - Parentalité
ATTACH;FMTTYPE=image/jpeg:https://www.maisonjacquesprevert.fr/wp-content/uploads/2024/03/Capture-decran-2024-03-15-a-11.54.06.jpg
END:VEVENT
BEGIN:VEVENT
DTSTART;TZID=Europe/Paris:20240326T093000
DTEND;TZID=Europe/Paris:20240326T113000
DTSTAMP:20260424T035342
CREATED:20240321T135809Z
LAST-MODIFIED:20240403T150121Z
UID:1169-1711445400-1711452600@www.maisonjacquesprevert.fr
SUMMARY:Bricothèque créative
DESCRIPTION:Rejoignez-nous pour une matinée à notre bricothèque le mardi 26 mars de 9h30 à 11h30 ! laissez libre cours à votre imagination pour venir bricoler. \n#Bricothèque #Création
URL:https://www.maisonjacquesprevert.fr/evenement/bricotheque-creative/
CATEGORIES:Événement à la une,Fabrique / Adultes,Maison Jacques Prévert
ATTACH;FMTTYPE=image/jpeg:https://www.maisonjacquesprevert.fr/wp-content/uploads/2024/03/Bricotheque-rotated.jpg
END:VEVENT
BEGIN:VEVENT
DTSTART;TZID=Europe/Paris:20240326T093000
DTEND;TZID=Europe/Paris:20240326T120000
DTSTAMP:20260424T035342
CREATED:20240320T132901Z
LAST-MODIFIED:20240320T154131Z
UID:988-1711445400-1711454400@www.maisonjacquesprevert.fr
SUMMARY:Couture
DESCRIPTION:   \nLibérez votre créativité ! \nVous rêvez de créer votre propre vêtements et accessoires ? alors ne manquez pas notre prochain atelier couture qui se déroulera le mardi 26 mars de 9h30 à 12h. \n#Couture #Création
URL:https://www.maisonjacquesprevert.fr/evenement/couture-2/
LOCATION:Maison Jacques Prévert\, Rue Montigny\, Dieppe\, 76200\, France
CATEGORIES:Événement à la une,Fabrique / Adultes,Maison Jacques Prévert
ATTACH;FMTTYPE=image/jpeg:https://www.maisonjacquesprevert.fr/wp-content/uploads/2024/03/couture-1-rotated.jpg
ORGANIZER;CN="Maison Jacques Pr%C3%A9vert":MAILTO:contact@maisonjacquesprevert.fr
END:VEVENT
BEGIN:VEVENT
DTSTART;TZID=Europe/Paris:20240326T140000
DTEND;TZID=Europe/Paris:20240326T170000
DTSTAMP:20260424T035342
CREATED:20240326T160653Z
LAST-MODIFIED:20240326T160856Z
UID:1200-1711461600-1711472400@www.maisonjacquesprevert.fr
SUMMARY:Création oeuf de Pâques
DESCRIPTION:Dans une ambiance joyeuse et pleine d’excitation\, plusieurs ateliers ont été organisés ces dernières semaines pour donner vie à des oeufs de Pâques unique et colorés. Les participantes ont eu l’opportunité de laisser libre cours à leur imagination pour créer des chefs-d’oeuvre saisonnier. \nAu cours des sessions précédentes\, les participantes ont exploré diverses techniques de fabrication d’oeufs en utilisant des ballons comme base puis elles ont enveloppé les ballons de journal pour pouvoir les rendre plus solides et que la peinture puisse tenir. \nAujourd’hui\, c’était le moment tant attendu de mettre la touche finale aux oeufs : l’atelier peinture. Munis de leurs pinceau et de couleurs éclatantes\, les participantes ont laissé libre cours à leur créativité pour donner vie à leurs oeuvre d’art. \nCes oeufs magnifiquement décorés ne sont pas simplement des objets de décoration\, mais ils joueront également un rôle central lors de la chasse aux oeufs de Pâques prévue le 3 avril à la MJP. \nEnsemble\, ces ateliers ont permis de créer un sentiment de communauté et de partage tout en célébrant l’esprit festif de Pâques. \n#Pâques #Partage
URL:https://www.maisonjacquesprevert.fr/evenement/oeuf-de-paque/
LOCATION:Maison Jacques Prévert\, Rue Montigny\, Dieppe\, 76200\, France
CATEGORIES:Événement à la une,Famille,Maison Jacques Prévert
ATTACH;FMTTYPE=image/jpeg:https://www.maisonjacquesprevert.fr/wp-content/uploads/2024/03/IMG_7088-rotated.jpeg
ORGANIZER;CN="Maison Jacques Pr%C3%A9vert":MAILTO:contact@maisonjacquesprevert.fr
END:VEVENT
BEGIN:VEVENT
DTSTART;TZID=Europe/Paris:20240327T090000
DTEND;TZID=Europe/Paris:20240327T123000
DTSTAMP:20260424T035342
CREATED:20240321T141647Z
LAST-MODIFIED:20240321T141854Z
UID:1176-1711530000-1711542600@www.maisonjacquesprevert.fr
SUMMARY:On marche
DESCRIPTION:Venez parcourir 8\,5 km jusqu’au Phare d’Ailly à Varengeville. \nLe rendez-vous est fixé à 9h pour une experience en pleine air\, profitez de l’air frais et des paysages magnifiques tout en vous ressourçant lors de cette excursion. \n#OnMarche #Varengeville
URL:https://www.maisonjacquesprevert.fr/evenement/on-marche/
CATEGORIES:Événement à la une,Fabrique / Adultes,Maison Jacques Prévert
ATTACH;FMTTYPE=image/jpeg:https://www.maisonjacquesprevert.fr/wp-content/uploads/2024/03/on-marche.jpg
END:VEVENT
BEGIN:VEVENT
DTSTART;TZID=Europe/Paris:20240327T140000
DTEND;TZID=Europe/Paris:20240327T163000
DTSTAMP:20260424T035342
CREATED:20240320T132521Z
LAST-MODIFIED:20240320T132521Z
UID:723-1711548000-1711557000@www.maisonjacquesprevert.fr
SUMMARY:Atelier Scrapbooking
DESCRIPTION:Mercredi 27 mars de 14h à 16h30 à la Maison Jacques Prévert \nRejoignez-nous pour un atelier scrapbooking animé par les savoir-faire de Virginie. \n1€/pers \n#Scrapbooking #MaisonJacquesPrévert
URL:https://www.maisonjacquesprevert.fr/evenement/atelier-scrapbooking/
LOCATION:Maison Jacques Prévert\, Rue Montigny\, Dieppe\, 76200\, France
CATEGORIES:Événement à la une,Famille,Maison Jacques Prévert
ATTACH;FMTTYPE=image/webp:https://www.maisonjacquesprevert.fr/wp-content/uploads/2024/02/grand-album-scrapbooking-carton-noir.webp
ORGANIZER;CN="Maison Jacques Pr%C3%A9vert":MAILTO:contact@maisonjacquesprevert.fr
END:VEVENT
BEGIN:VEVENT
DTSTART;TZID=Europe/Paris:20240327T143000
DTEND;TZID=Europe/Paris:20240327T170000
DTSTAMP:20260424T035342
CREATED:20240315T100024Z
LAST-MODIFIED:20240319T112637Z
UID:933-1711549800-1711558800@www.maisonjacquesprevert.fr
SUMMARY:Après-midi découverte de ''Super Bomberman R''
DESCRIPTION:Venez incarner bomberman ou l’un de ses acolytes ce mercredi 27 mars en micro-folie/bibliothèque de la Maison Jacques Prévert. \nCe jeu combine stratégie et destruction : si vous coincez un joueur avec une de vos bombes\, il est fini ! Mais faites attention quand même : ce n’est pas parce que ce sont vos bombes qu’elles ne vont pas vous faire de mal et déplacez-vous dans des niveaux labyrinthiques\, posez des bombes pour vaincre vos adversaires tout en ramassant des power-ups pour booster vos capacités. \n\nhttps://www.youtube.com/watch?v=XjEqSoROcKU\n\n\nSur inscription (8 places)\nRéservation a l’accueil au 02 35 82 71 20\n\n\n#maisonjacquesprevert #microfolies #Bomberman
URL:https://www.maisonjacquesprevert.fr/evenement/apres-midi-decouverte-de-super-bomberman-r/
LOCATION:Maison Jacques Prévert\, Rue Montigny\, Dieppe\, 76200\, France
CATEGORIES:Événement à la une,Maison Jacques Prévert,Micro-folie
ATTACH;FMTTYPE=image/jpeg:https://www.maisonjacquesprevert.fr/wp-content/uploads/2024/03/bomberman_r_27_mars_2024@2x-100-2.jpg
ORGANIZER;CN="Maison Jacques Pr%C3%A9vert":MAILTO:contact@maisonjacquesprevert.fr
END:VEVENT
BEGIN:VEVENT
DTSTART;TZID=Europe/Paris:20240328T094500
DTEND;TZID=Europe/Paris:20240328T114500
DTSTAMP:20260424T035342
CREATED:20240321T140534Z
LAST-MODIFIED:20240321T140534Z
UID:1173-1711619100-1711626300@www.maisonjacquesprevert.fr
SUMMARY:Socio-esthétique
DESCRIPTION:Découvrez une expérience de bien être lors de notre activité socio-esthétique le 28 mars de 9h45 à 11h45. \nRejoignez-nous pour un moment de détente et de soins personnalisés où vous pourrez vous détendre et vous ressourcer. \n#BienÊtre #SocioEsthétique
URL:https://www.maisonjacquesprevert.fr/evenement/socio-esthetique/
CATEGORIES:Événement à la une,Famille,Maison Jacques Prévert
ATTACH;FMTTYPE=image/jpeg:https://www.maisonjacquesprevert.fr/wp-content/uploads/2024/03/socio-esthetique.jpg
END:VEVENT
BEGIN:VEVENT
DTSTART;TZID=Europe/Paris:20240329T100000
DTEND;TZID=Europe/Paris:20240329T120000
DTSTAMP:20260424T035342
CREATED:20240321T150824Z
LAST-MODIFIED:20240321T150824Z
UID:1179-1711706400-1711713600@www.maisonjacquesprevert.fr
SUMMARY:Si on chantait
DESCRIPTION:Envie de laisser libre cours à votre voix et de montrer vos talents de chant ? Rejoignez-nous pour notre activité  »Si on chantait » ce vendredi 22 mars de 10h à 12h ! \nPas besoin d’être professionnel\, l’important est de partager notre passion pour la musique et de s’amuser ensemble ! \n#SiOnChantait #Musique #Convivialité
URL:https://www.maisonjacquesprevert.fr/evenement/si-on-chantait-2/
CATEGORIES:Événement à la une,Fabrique / Adultes,Maison Jacques Prévert
ATTACH;FMTTYPE=image/jpeg:https://www.maisonjacquesprevert.fr/wp-content/uploads/2024/03/si-on-chantait.jpg
END:VEVENT
BEGIN:VEVENT
DTSTART;TZID=Europe/Paris:20240329T183000
DTEND;TZID=Europe/Paris:20240329T200000
DTSTAMP:20260424T035342
CREATED:20240315T100139Z
LAST-MODIFIED:20240315T100139Z
UID:902-1711737000-1711742400@www.maisonjacquesprevert.fr
SUMMARY:Soirée Renc'Art Knowledge Is Power
DESCRIPTION:Victime de son succès les mercredis après-midis\, la Micro-Folie vous propose de découvrir le fameux  »knowledge is power » lors d’une soirée Renc’Art le vendredi 29 mars 2024 à partir de 18h30 à la Micro-Folie / Bibliothèque de la Maison Jacques Prévert !\n\n\nIl y a seulement 12 places alors n’hésitez pas à réserver au 02 35 82 71 20 ou 07 88 21 28 73
URL:https://www.maisonjacquesprevert.fr/evenement/soiree-rencart-knowledge-is-power/
LOCATION:Maison Jacques Prévert\, Rue Montigny\, Dieppe\, 76200\, France
CATEGORIES:Événement à la une,Maison Jacques Prévert,Micro-folie
ATTACH;FMTTYPE=image/jpeg:https://www.maisonjacquesprevert.fr/wp-content/uploads/2024/03/RencArt_KiP_recto@2x-100-1.jpeg
ORGANIZER;CN="Maison Jacques Pr%C3%A9vert":MAILTO:contact@maisonjacquesprevert.fr
END:VEVENT
END:VCALENDAR