BEGIN:VCALENDAR
VERSION:2.0
PRODID:-//Maison Jacques Prévert - ECPv6.15.20//NONSGML v1.0//EN
CALSCALE:GREGORIAN
METHOD:PUBLISH
X-ORIGINAL-URL:https://www.maisonjacquesprevert.fr
X-WR-CALDESC:Évènements pour Maison Jacques Prévert
REFRESH-INTERVAL;VALUE=DURATION:PT1H
X-Robots-Tag:noindex
X-PUBLISHED-TTL:PT1H
BEGIN:VTIMEZONE
TZID:Europe/Paris
BEGIN:DAYLIGHT
TZOFFSETFROM:+0100
TZOFFSETTO:+0200
TZNAME:CEST
DTSTART:20230326T010000
END:DAYLIGHT
BEGIN:STANDARD
TZOFFSETFROM:+0200
TZOFFSETTO:+0100
TZNAME:CET
DTSTART:20231029T010000
END:STANDARD
BEGIN:DAYLIGHT
TZOFFSETFROM:+0100
TZOFFSETTO:+0200
TZNAME:CEST
DTSTART:20240331T010000
END:DAYLIGHT
BEGIN:STANDARD
TZOFFSETFROM:+0200
TZOFFSETTO:+0100
TZNAME:CET
DTSTART:20241027T010000
END:STANDARD
BEGIN:DAYLIGHT
TZOFFSETFROM:+0100
TZOFFSETTO:+0200
TZNAME:CEST
DTSTART:20250330T010000
END:DAYLIGHT
BEGIN:STANDARD
TZOFFSETFROM:+0200
TZOFFSETTO:+0100
TZNAME:CET
DTSTART:20251026T010000
END:STANDARD
END:VTIMEZONE
BEGIN:VEVENT
DTSTART;TZID=Europe/Paris:20240404T080000
DTEND;TZID=Europe/Paris:20240404T170000
DTSTAMP:20260424T021734
CREATED:20240404T091404Z
LAST-MODIFIED:20240404T091404Z
UID:1349-1712217600-1712250000@www.maisonjacquesprevert.fr
SUMMARY:Marche
DESCRIPTION:Une marche est prévu ce mercredi 10 avril de 9h à 12h30 afin de parcourir les étangs et la forêt de Saint Hellier 7\,5kms. \n#Marche #7\,5kms
URL:https://www.maisonjacquesprevert.fr/evenement/marche/
CATEGORIES:Événement à la une,Fabrique / Adultes,Maison Jacques Prévert
ATTACH;FMTTYPE=image/jpeg:https://www.maisonjacquesprevert.fr/wp-content/uploads/2024/03/on-marche.jpg
END:VEVENT
BEGIN:VEVENT
DTSTART;TZID=Europe/Paris:20240404T084500
DTEND;TZID=Europe/Paris:20240404T103000
DTSTAMP:20260424T021735
CREATED:20240315T135039Z
LAST-MODIFIED:20240402T144503Z
UID:726-1712220300-1712226600@www.maisonjacquesprevert.fr
SUMMARY:Café santé  ''Les gestes qui sauvent''
DESCRIPTION:Un atelier  »les gestes qui sauvent » animé par les pompiers est organisé pour jeudi 4 avril à 8h45. \nRendez-vous au rez-de-chaussée de Tactil’lou Fable \nOuvert à tous et gratuit.
URL:https://www.maisonjacquesprevert.fr/evenement/cafe-sante-les-gestes-qui-sauvent/
LOCATION:Pôle de services La Fontaine\, Immeuble La Fontaine\, Les Bruyères\, Dieppe\, 76200\, France
CATEGORIES:Événement à la une,Famille,Maison Jacques Prévert
ATTACH;FMTTYPE=image/jpeg:https://www.maisonjacquesprevert.fr/wp-content/uploads/2024/02/les-gestes-qui-sauvent-image.jpg
ORGANIZER;CN="Maison Jacques Pr%C3%A9vert":MAILTO:contact@maisonjacquesprevert.fr
END:VEVENT
BEGIN:VEVENT
DTSTART;TZID=Europe/Paris:20240404T140000
DTEND;TZID=Europe/Paris:20240404T144500
DTSTAMP:20260424T021735
CREATED:20240403T144930Z
LAST-MODIFIED:20240404T090549Z
UID:1324-1712239200-1712241900@www.maisonjacquesprevert.fr
SUMMARY:Gym douce
DESCRIPTION:Reconnectez-vous avec votre corps et votre esprit lors de notre séance de gym douce ce jeudi 4 avril à 14h en compagnie des adhérents de la Maison Jacques Prévert ! \nRejoignez-nous pour une petite heure de détente et de bien être pour des exercices simples afin de renforcer nos muscles\, améliorer notre souplesse et apaiser notre esprit. \n#MaisonJacquesPrévert #GymDouce #BienÊtre
URL:https://www.maisonjacquesprevert.fr/evenement/gym-douce-2/
CATEGORIES:Événement à la une,Fabrique / Adultes,Maison Jacques Prévert
ATTACH;FMTTYPE=image/jpeg:https://www.maisonjacquesprevert.fr/wp-content/uploads/2024/03/gym-douce.jpg
END:VEVENT
BEGIN:VEVENT
DTSTART;TZID=Europe/Paris:20240404T140000
DTEND;TZID=Europe/Paris:20240404T163000
DTSTAMP:20260424T021735
CREATED:20240403T143904Z
LAST-MODIFIED:20240403T143904Z
UID:1321-1712239200-1712248200@www.maisonjacquesprevert.fr
SUMMARY:Couture
DESCRIPTION:Libérez votre créativité ! \nVous rêvez de créer votre propre vêtements et accessoires ? alors ne manquez pas notre prochain atelier couture qui se déroulera le jeudi 4 avril de 14h à 16h30. \n#Couture #Création
URL:https://www.maisonjacquesprevert.fr/evenement/couture-3/
CATEGORIES:Événement à la une,Fabrique / Adultes,Maison Jacques Prévert
ATTACH;FMTTYPE=image/jpeg:https://www.maisonjacquesprevert.fr/wp-content/uploads/2024/03/couture-1-rotated.jpg
END:VEVENT
BEGIN:VEVENT
DTSTART;TZID=Europe/Paris:20240404T163000
DTEND;TZID=Europe/Paris:20240404T180000
DTSTAMP:20260424T021735
CREATED:20240402T140759Z
LAST-MODIFIED:20240402T142233Z
UID:1305-1712248200-1712253600@www.maisonjacquesprevert.fr
SUMMARY:Futsal
DESCRIPTION:venez vous joindre à nous pour une session de futsal excitante le jeudi 4 avril de 16h30 à 18h\, au Gymnase Léon Roger. Cette activité est ouverte aux jeunes âgées de 11 à 18 ans. \nRejoignez-nous pour une après-midi de sport et de plaisir !
URL:https://www.maisonjacquesprevert.fr/evenement/futsal/
CATEGORIES:Enfance - Jeunesse,Événement à la une,Maison Jacques Prévert
ATTACH;FMTTYPE=image/jpeg:https://www.maisonjacquesprevert.fr/wp-content/uploads/2024/03/Capture-decran-2024-03-27-a-11.31.25.jpg
END:VEVENT
BEGIN:VEVENT
DTSTART;TZID=Europe/Paris:20240405T090000
DTEND;TZID=Europe/Paris:20240405T120000
DTSTAMP:20260424T021735
CREATED:20240403T145746Z
LAST-MODIFIED:20240403T145746Z
UID:1329-1712307600-1712318400@www.maisonjacquesprevert.fr
SUMMARY:P'tite marche
DESCRIPTION:Venez parcourir le circuit des Gués 6\,1 kms. \nLe rendez-vous est fixé à 9h pour une expérience en pleine air\, profitez de l’air frais et des paysages magnifiques tout en vous ressourçant lors de cette excursion. \n#OnMarche
URL:https://www.maisonjacquesprevert.fr/evenement/ptite-marche/
CATEGORIES:Événement à la une,Fabrique / Adultes,Maison Jacques Prévert
ATTACH;FMTTYPE=image/jpeg:https://www.maisonjacquesprevert.fr/wp-content/uploads/2024/03/on-marche-1.jpg
END:VEVENT
BEGIN:VEVENT
DTSTART;TZID=Europe/Paris:20240405T100000
DTEND;TZID=Europe/Paris:20240405T120000
DTSTAMP:20260424T021735
CREATED:20240403T145113Z
LAST-MODIFIED:20240403T145113Z
UID:1327-1712311200-1712318400@www.maisonjacquesprevert.fr
SUMMARY:Si on chantait ! 
DESCRIPTION:Envie de laisser libre cours à votre voix et de montrer vos talents de chant ? Rejoignez-nous pour notre activité  »Si on chantait » ce vendredi 22 mars de 10h à 12h ! \nPas besoin d’être professionnel\, l’important est de partager notre passion pour la musique et de s’amuser ensemble ! \n#SiOnChantait #Musique #Convivialité
URL:https://www.maisonjacquesprevert.fr/evenement/si-on-chantait-3/
CATEGORIES:Événement à la une,Fabrique / Adultes,Maison Jacques Prévert
ATTACH;FMTTYPE=image/jpeg:https://www.maisonjacquesprevert.fr/wp-content/uploads/2024/03/si-on-chantait.jpg
END:VEVENT
BEGIN:VEVENT
DTSTART;TZID=Europe/Paris:20240409T090000
DTEND;TZID=Europe/Paris:20240409T170000
DTSTAMP:20260424T021735
CREATED:20240402T143751Z
LAST-MODIFIED:20240405T125404Z
UID:1309-1712653200-1712682000@www.maisonjacquesprevert.fr
SUMMARY:Début des inscriptions
DESCRIPTION:Les inscriptions des Instants Ludique destinés aux enfants 6/10 ans pour les vacances du printemps débuterons le mardi 9 avril. \nOffrez à vos enfants une expérience divertissante et enrichissante pendant les vacances. \nInscrivez-les dés le 9 avril pour garantir leur place !
URL:https://www.maisonjacquesprevert.fr/evenement/debut-des-inscriptions/
CATEGORIES:Enfance - Jeunesse,Événement à la une,Maison Jacques Prévert
ATTACH;FMTTYPE=image/jpeg:https://www.maisonjacquesprevert.fr/wp-content/uploads/2024/04/Capture-decran-2024-04-02-a-16.36.59.jpg
END:VEVENT
BEGIN:VEVENT
DTSTART;TZID=Europe/Paris:20240409T093000
DTEND;TZID=Europe/Paris:20240409T113000
DTSTAMP:20260424T021735
CREATED:20240403T150135Z
LAST-MODIFIED:20240403T150135Z
UID:1331-1712655000-1712662200@www.maisonjacquesprevert.fr
SUMMARY:Bricothèque Créative
DESCRIPTION:Rejoignez-nous pour une matinée à notre bricothèque le mardi 26 mars de 9h30 à 11h30 ! laissez libre cours à votre imagination pour venir bricoler. \n#Bricothèque #Création
URL:https://www.maisonjacquesprevert.fr/evenement/bricotheque-creative-2/
CATEGORIES:Événement à la une,Fabrique / Adultes,Maison Jacques Prévert
ATTACH;FMTTYPE=image/jpeg:https://www.maisonjacquesprevert.fr/wp-content/uploads/2024/03/Bricotheque-rotated.jpg
END:VEVENT
BEGIN:VEVENT
DTSTART;TZID=Europe/Paris:20240409T140000
DTEND;TZID=Europe/Paris:20240409T160000
DTSTAMP:20260424T021735
CREATED:20240404T091024Z
LAST-MODIFIED:20240404T091024Z
UID:1345-1712671200-1712678400@www.maisonjacquesprevert.fr
SUMMARY:Tricot et Crochet
DESCRIPTION:Rejoignez-nous pour partager des astuces\, des modèles et passer un bon moment en compagnie d’autre passionnées de tricot et de crochet. \nL’événement ce passe mardi 9 avril de 14h à 16h. \n#TricotEtCrochet #Passionnées
URL:https://www.maisonjacquesprevert.fr/evenement/tricot-et-crochet/
CATEGORIES:Événement à la une,Fabrique / Adultes,Maison Jacques Prévert
ATTACH;FMTTYPE=image/jpeg:https://www.maisonjacquesprevert.fr/wp-content/uploads/2024/03/Capture-decran-2024-03-20-a-11.01.11.jpg
END:VEVENT
BEGIN:VEVENT
DTSTART;TZID=Europe/Paris:20240410T140000
DTEND;TZID=Europe/Paris:20240410T170000
DTSTAMP:20260424T021735
CREATED:20240315T100208Z
LAST-MODIFIED:20240315T100208Z
UID:906-1712757600-1712768400@www.maisonjacquesprevert.fr
SUMMARY:Après-midi Knowledge Is Power
DESCRIPTION:Retrouvez-nous le mercredi 10 avril à partir de 14h en Micro-Folie/Bibliothèque de la MJP pour une après-midi  »knowledge is power ».
URL:https://www.maisonjacquesprevert.fr/evenement/apres-midi-knowledge-is-power/
LOCATION:Maison Jacques Prévert\, Rue Montigny\, Dieppe\, 76200\, France
CATEGORIES:Événement à la une,Maison Jacques Prévert,Micro-folie
ATTACH;FMTTYPE=image/jpeg:https://www.maisonjacquesprevert.fr/wp-content/uploads/2024/03/K_is_P_avril_2024@2x-100-1.jpeg
ORGANIZER;CN="Maison Jacques Pr%C3%A9vert":MAILTO:contact@maisonjacquesprevert.fr
END:VEVENT
BEGIN:VEVENT
DTSTART;TZID=Europe/Paris:20240411T094500
DTEND;TZID=Europe/Paris:20240411T114500
DTSTAMP:20260424T021735
CREATED:20240404T135640Z
LAST-MODIFIED:20240404T135640Z
UID:1370-1712828700-1712835900@www.maisonjacquesprevert.fr
SUMMARY:Atelier socio-esthétique
DESCRIPTION:Un atelier socio-esthétique est organisée le jeudi 11 avril au Pôle LaFontaine\, vous pourrez nous retrouver au 2e étage pour une séance de 2h autour de la confiance en soi\, de l’estime de soi\, des conseils\, création et réalisation de ces propres produits. \n 
URL:https://www.maisonjacquesprevert.fr/evenement/atelier-socio-esthetique/
CATEGORIES:Événement à la une,Famille,Maison Jacques Prévert
ATTACH;FMTTYPE=image/jpeg:https://www.maisonjacquesprevert.fr/wp-content/uploads/2024/04/socio-esthetique.jpg
END:VEVENT
BEGIN:VEVENT
DTSTART;TZID=Europe/Paris:20240411T140000
DTEND;TZID=Europe/Paris:20240411T144500
DTSTAMP:20260424T021735
CREATED:20240410T093356Z
LAST-MODIFIED:20240410T094156Z
UID:1413-1712844000-1712846700@www.maisonjacquesprevert.fr
SUMMARY:Gym douce
DESCRIPTION:Reconnectez-vous avec votre corps et votre esprit lors de notre séance de gym douce ce jeudi 11 avril à 14h en compagnie des adhérents de la Maison Jacques Prévert ! \nRejoignez-nous pour une petite heure de détente et de bien être pour des exercices simples afin de renforcer nos muscles\, améliorer notre souplesse et apaiser notre esprit. \n#MaisonJacquesPrévert #GymDouce #BienÊtre
URL:https://www.maisonjacquesprevert.fr/evenement/gym-douce-3/
CATEGORIES:Événement à la une,Fabrique / Adultes,Maison Jacques Prévert
ATTACH;FMTTYPE=image/jpeg:https://www.maisonjacquesprevert.fr/wp-content/uploads/2024/03/gym-douce-1.jpg
END:VEVENT
BEGIN:VEVENT
DTSTART;TZID=Europe/Paris:20240411T140000
DTEND;TZID=Europe/Paris:20240411T163000
DTSTAMP:20260424T021735
CREATED:20240410T093243Z
LAST-MODIFIED:20240410T094227Z
UID:1410-1712844000-1712853000@www.maisonjacquesprevert.fr
SUMMARY:Couture
DESCRIPTION:Libérez votre créativité ! \nVous rêvez de créer votre propre vêtements et accessoires ? alors ne manquez pas notre prochain atelier couture qui se déroulera le jeudi 11 avril de 14h à 16h30. \n#Couture #Création
URL:https://www.maisonjacquesprevert.fr/evenement/couture-4/
CATEGORIES:Événement à la une,Fabrique / Adultes,Maison Jacques Prévert
ATTACH;FMTTYPE=image/jpeg:https://www.maisonjacquesprevert.fr/wp-content/uploads/2024/03/couture-1-rotated.jpg
END:VEVENT
BEGIN:VEVENT
DTSTART;TZID=Europe/Paris:20240423T080000
DTEND;TZID=Europe/Paris:20240423T120000
DTSTAMP:20260424T021735
CREATED:20240410T092258Z
LAST-MODIFIED:20240410T092258Z
UID:1406-1713859200-1713873600@www.maisonjacquesprevert.fr
SUMMARY:Atelier top chef
DESCRIPTION:Préparez-vous à devenir de véritables chefs lors de notre atelier Top Chef réservé aux enfants de 8 à 10 ans le mardi 23 avril ! Rejoignez-nous pour une journée pleine de saveurs\, de découverte culinaires et d’amusement en cuisine. \nLes jeunes participants auront l’opportunité de mettre la main à la pâte et apprendre les bases de la cuisine. De la préparation au ingrédients à la présentation finale des plats. \nAu programme\, des recettes ludique et délicieuses adaptées aux enfants !! \nRendez-vous mardi matin dans la cuisine de la MJP pour une expérience inoubliable avec notre atelier top chef ! \n#TopChef #Cuisine
URL:https://www.maisonjacquesprevert.fr/evenement/atelier-top-chef/
CATEGORIES:Enfance - Jeunesse,Événement à la une,Maison Jacques Prévert
ATTACH;FMTTYPE=image/jpeg:https://www.maisonjacquesprevert.fr/wp-content/uploads/2024/04/Capture-decran-2024-04-10-a-11.21.45.jpg
END:VEVENT
BEGIN:VEVENT
DTSTART;TZID=Europe/Paris:20240425T080000
DTEND;TZID=Europe/Paris:20240425T120000
DTSTAMP:20260424T021735
CREATED:20240424T084804Z
LAST-MODIFIED:20240424T084804Z
UID:1500-1714032000-1714046400@www.maisonjacquesprevert.fr
SUMMARY:Peinture avec les mains
DESCRIPTION:Venez explorez votre créativité et vous amuser lors d’un atelier de peinture avec les mains ! Nous vous invitons à nous rejoindre pour un événement unique où vous pourrez laisser libre cours à votre imagination et créer des oeuvres d’art colorées. \n#Peinture #Enfants
URL:https://www.maisonjacquesprevert.fr/evenement/peinture-avec-les-mains/
CATEGORIES:Événement à la une,Petite enfance - Parentalité
ATTACH;FMTTYPE=image/jpeg:https://www.maisonjacquesprevert.fr/wp-content/uploads/2024/04/Capture-decran-2024-04-24-a-10.43.32.jpg
END:VEVENT
BEGIN:VEVENT
DTSTART;TZID=Europe/Paris:20240425T134500
DTEND;TZID=Europe/Paris:20240425T170000
DTSTAMP:20260424T021735
CREATED:20240410T133954Z
LAST-MODIFIED:20240410T133954Z
UID:1461-1714052700-1714064400@www.maisonjacquesprevert.fr
SUMMARY:Visite du jardin des sources et ses pépinières
DESCRIPTION:Découvrez la beauté de la nature lors de notre visite guidée au Jardin des Sources et des pépinières à St Martin la Gaillarde le 25 avril ! Rejoignez-nous pour une après-midi d’exploration et de découverte au coeur de magnifique jardins et pépinières. \nRendez-vous à 13h45 pour une expérience inoubliable au contact de la nature. \n#Jardin #Exploration
URL:https://www.maisonjacquesprevert.fr/evenement/visite-du-jardin-des-sources-et-ses-pepinieres/
CATEGORIES:Événement à la une,Fabrique / Adultes,Maison Jacques Prévert
ATTACH;FMTTYPE=image/jpeg:https://www.maisonjacquesprevert.fr/wp-content/uploads/2024/04/Capture-decran-2024-04-10-a-15.39.03.jpg
END:VEVENT
BEGIN:VEVENT
DTSTART;TZID=Europe/Paris:20240426T080000
DTEND;TZID=Europe/Paris:20240426T170000
DTSTAMP:20260424T021735
CREATED:20240424T090330Z
LAST-MODIFIED:20240424T090330Z
UID:1503-1714118400-1714150800@www.maisonjacquesprevert.fr
SUMMARY:Journée scientifique
DESCRIPTION:Découvrez le monde de la science lors d’une journée spécialement conçue pour les enfants de 3 à 6 ans ! Cette journée éducative et amusante offrira aux plus jeunes l’opportunité d’explorer des concepts scientifiques de manière ludique. \n#Science #Enfants
URL:https://www.maisonjacquesprevert.fr/evenement/journee-scientifique/
CATEGORIES:Événement à la une,Petite enfance - Parentalité
ATTACH;FMTTYPE=image/jpeg:https://www.maisonjacquesprevert.fr/wp-content/uploads/2024/04/Capture-decran-2024-04-24-a-10.54.02.jpg
END:VEVENT
BEGIN:VEVENT
DTSTART;TZID=Europe/Paris:20240426T183000
DTEND;TZID=Europe/Paris:20240426T203000
DTSTAMP:20260424T021735
CREATED:20240403T133533Z
LAST-MODIFIED:20240403T133533Z
UID:1317-1714156200-1714163400@www.maisonjacquesprevert.fr
SUMMARY:Beat Saber
DESCRIPTION:Beat Saber vous connaissez ? Ce jeu de rythme en réalité virtuelle ? non ? et bien la Micro-Folie de Dieppe vous invite à venir découvrir ce dernier lors de sa soirée Renc’Art spécial  »Réalité Virtuelle ». Le but du jeu est simple. Suivre en rythme les battements de la musique représentés par des cubes de couleur et frapper ceux-ci au bon moment dans le sens indiqué et le sabre correspondant. Envie de relever le défi ? Rendez-vous alors le vendredi 26 avril 2024 à partir 18h30 à la bibliothèque / Micro-folie de la Maison Jacques Prévert ! (sur inscription uniquement). \nRéservation au 02 35 06 60 05  ou  07 88 21 28 73
URL:https://www.maisonjacquesprevert.fr/evenement/beat-saber/
CATEGORIES:Événement à la une,Maison Jacques Prévert,Micro-folie
ATTACH;FMTTYPE=image/jpeg:https://www.maisonjacquesprevert.fr/wp-content/uploads/2024/04/beat_saber_recto@2x-100.jpeg
END:VEVENT
BEGIN:VEVENT
DTSTART;TZID=Europe/Paris:20240429T080000
DTEND;TZID=Europe/Paris:20240429T170000
DTSTAMP:20260424T021735
CREATED:20240424T092832Z
LAST-MODIFIED:20240424T092832Z
UID:1506-1714377600-1714410000@www.maisonjacquesprevert.fr
SUMMARY:Patinette
DESCRIPTION:Les enfants sont invités à se joindre à nous pour une journée amusante de patinette ! Que vos enfants soient débutants ou expérimentés\, ils auront l’occasion de pratiquer leurs compétences\, d’apprendre de nouvelles astuces et de rencontrer d’autres jeunes passionnés. \n#Patinette #Enfants
URL:https://www.maisonjacquesprevert.fr/evenement/patinette/
CATEGORIES:Événement à la une,Maison Jacques Prévert,Petite enfance - Parentalité
ATTACH;FMTTYPE=image/jpeg:https://www.maisonjacquesprevert.fr/wp-content/uploads/2024/04/Capture-decran-2024-04-24-a-11.25.18.jpg
END:VEVENT
BEGIN:VEVENT
DTSTART;TZID=Europe/Paris:20240429T140000
DTEND;TZID=Europe/Paris:20240429T170000
DTSTAMP:20260424T021735
CREATED:20240423T084523Z
LAST-MODIFIED:20240423T084523Z
UID:1488-1714399200-1714410000@www.maisonjacquesprevert.fr
SUMMARY:''Pokémon\, mon premier combat''
DESCRIPTION:Avis à tous les apprentis dresseurs de Pokémon de 7 ans et plus ! \nLe mercredi 29 mai 2024\, l’équipe de la Micro-Folie de Dieppe invite les jeunes amateurs de Pokémon à un après-midi d’initiation au jeu de cartes à collectionner  »Pokémon ». \nDurant cet après-midi \, nous vous apprendrons comment devenir de vrais dresseurs et mener votre premier combat aux côtés d vos Pokémon préférés ! \nAttention les places sont limitées\, inscrivez-vous rapidement !
URL:https://www.maisonjacquesprevert.fr/evenement/pokemon-mon-premier-combat/
CATEGORIES:Événement à la une,Maison Jacques Prévert,Micro-folie
ATTACH;FMTTYPE=image/jpeg:https://www.maisonjacquesprevert.fr/wp-content/uploads/2024/04/pokemon_mercredi_recto@2x-100.jpeg
END:VEVENT
BEGIN:VEVENT
DTSTART;TZID=Europe/Paris:20240430T124500
DTEND;TZID=Europe/Paris:20240430T180000
DTSTAMP:20260424T021735
CREATED:20240404T103812Z
LAST-MODIFIED:20240404T135722Z
UID:1363-1714481100-1714500000@www.maisonjacquesprevert.fr
SUMMARY:Sortie familles d'avril
DESCRIPTION:Mardi  30 avril \nEscalade – Arkose à Rouen \nBalade sur les quais \nà partir de 4 ans \nTarif : 4€/pers (coût réel : 14€/pers) \nDépart à 12h45 sur le parking de la MJP retour prévu pour 18h.
URL:https://www.maisonjacquesprevert.fr/evenement/sortie-familles-davril/
LOCATION:Rouen
CATEGORIES:Événement à la une,Famille,Maison Jacques Prévert
ATTACH;FMTTYPE=image/jpeg:https://www.maisonjacquesprevert.fr/wp-content/uploads/2024/04/Capture-decran-2024-04-04-123438.jpg
ORGANIZER;CN="Maison Jacques Pr%C3%A9vert":MAILTO:contact@maisonjacquesprevert.fr
END:VEVENT
END:VCALENDAR