BEGIN:VCALENDAR
VERSION:2.0
PRODID:-//Maison Jacques Prévert - ECPv6.15.20//NONSGML v1.0//EN
CALSCALE:GREGORIAN
METHOD:PUBLISH
X-ORIGINAL-URL:https://www.maisonjacquesprevert.fr
X-WR-CALDESC:Évènements pour Maison Jacques Prévert
REFRESH-INTERVAL;VALUE=DURATION:PT1H
X-Robots-Tag:noindex
X-PUBLISHED-TTL:PT1H
BEGIN:VTIMEZONE
TZID:Europe/Paris
BEGIN:DAYLIGHT
TZOFFSETFROM:+0100
TZOFFSETTO:+0200
TZNAME:CEST
DTSTART:20230326T010000
END:DAYLIGHT
BEGIN:STANDARD
TZOFFSETFROM:+0200
TZOFFSETTO:+0100
TZNAME:CET
DTSTART:20231029T010000
END:STANDARD
BEGIN:DAYLIGHT
TZOFFSETFROM:+0100
TZOFFSETTO:+0200
TZNAME:CEST
DTSTART:20240331T010000
END:DAYLIGHT
BEGIN:STANDARD
TZOFFSETFROM:+0200
TZOFFSETTO:+0100
TZNAME:CET
DTSTART:20241027T010000
END:STANDARD
BEGIN:DAYLIGHT
TZOFFSETFROM:+0100
TZOFFSETTO:+0200
TZNAME:CEST
DTSTART:20250330T010000
END:DAYLIGHT
BEGIN:STANDARD
TZOFFSETFROM:+0200
TZOFFSETTO:+0100
TZNAME:CET
DTSTART:20251026T010000
END:STANDARD
END:VTIMEZONE
BEGIN:VEVENT
DTSTART;TZID=Europe/Paris:20240502T080000
DTEND;TZID=Europe/Paris:20240502T170000
DTSTAMP:20260424T004548
CREATED:20240424T095004Z
LAST-MODIFIED:20240424T095004Z
UID:1509-1714636800-1714669200@www.maisonjacquesprevert.fr
SUMMARY:Cuisine
DESCRIPTION:Venez passer une journée délicieuse avec vos enfants lors de notre atelier de cuisine spécialement conçus pour les enfants de 3 à 6 ans ! \nCet événement est une occasion idéale pour les petits chefs d’apprendre à préparer de délicieux plats tout en s’amusant. \n#Cuisine #Enfants
URL:https://www.maisonjacquesprevert.fr/evenement/cuisine/
CATEGORIES:Événement à la une,Maison Jacques Prévert,Petite enfance - Parentalité
ATTACH;FMTTYPE=image/jpeg:https://www.maisonjacquesprevert.fr/wp-content/uploads/2024/04/Capture-decran-2024-04-24-a-11.45.43.jpg
END:VEVENT
BEGIN:VEVENT
DTSTART;TZID=Europe/Paris:20240502T080000
DTEND;TZID=Europe/Paris:20240502T170000
DTSTAMP:20260424T004548
CREATED:20240430T133803Z
LAST-MODIFIED:20240430T133803Z
UID:1546-1714636800-1714669200@www.maisonjacquesprevert.fr
SUMMARY:Olympiade
DESCRIPTION:Un atelier olympiade est organisé par l’enfance-jeunesse jeudi 2 mai. \nSoyez prêt a vous affrontez sur différent parcours au gymnase Léon Roger. \nLes 6-7 ans et les 8 à 10 ans à partir de 14h.
URL:https://www.maisonjacquesprevert.fr/evenement/olympiade/
CATEGORIES:Enfance - Jeunesse,Événement à la une,Maison Jacques Prévert
ATTACH;FMTTYPE=image/jpeg:https://www.maisonjacquesprevert.fr/wp-content/uploads/2024/04/IMG_6742-rotated.jpeg
END:VEVENT
BEGIN:VEVENT
DTSTART;TZID=Europe/Paris:20240503T080000
DTEND;TZID=Europe/Paris:20240503T170000
DTSTAMP:20260424T004548
CREATED:20240424T095900Z
LAST-MODIFIED:20240424T095900Z
UID:1512-1714723200-1714755600@www.maisonjacquesprevert.fr
SUMMARY:Baby Gym
DESCRIPTION:Les tout petits sont invités à se joindre à nous au gymnase Achille Desjardins pour une séance de baby gym amusante et stimulante ! Cette activité est une excellente façon pour les jeunes enfants de développer leurs compétences motrices tout en s’amusant. \n#BabyGym
URL:https://www.maisonjacquesprevert.fr/evenement/baby-gym/
CATEGORIES:Événement à la une,Maison Jacques Prévert,Petite enfance - Parentalité
ATTACH;FMTTYPE=image/jpeg:https://www.maisonjacquesprevert.fr/wp-content/uploads/2024/04/Capture-decran-2024-04-24-a-11.55.27.jpg
END:VEVENT
BEGIN:VEVENT
DTSTART;TZID=Europe/Paris:20240503T140000
DTEND;TZID=Europe/Paris:20240503T170000
DTSTAMP:20260424T004548
CREATED:20240430T145712Z
LAST-MODIFIED:20240430T145712Z
UID:1549-1714744800-1714755600@www.maisonjacquesprevert.fr
SUMMARY:Tournoi sportif
DESCRIPTION:Rejoignez-nous vendredi 3 mai après-midi pour un tournoi sportif passionnant pour les enfants de 8 à 10 ans. Rendez-vous au gymnase Léon Roger pour une après-midi compétition et de plaisir !
URL:https://www.maisonjacquesprevert.fr/evenement/tournoi-sportif/
CATEGORIES:Enfance - Jeunesse,Événement à la une,Maison Jacques Prévert
ATTACH;FMTTYPE=image/jpeg:https://www.maisonjacquesprevert.fr/wp-content/uploads/2024/04/IMG_6728.jpeg
END:VEVENT
BEGIN:VEVENT
DTSTART;TZID=Europe/Paris:20240514T164500
DTEND;TZID=Europe/Paris:20240514T170000
DTSTAMP:20260424T004548
CREATED:20240507T142723Z
LAST-MODIFIED:20240514T074720Z
UID:1557-1715705100-1715706000@www.maisonjacquesprevert.fr
SUMMARY:Piscine ludibulle
DESCRIPTION:Rejoignez-nous pour une après-midi piscine à Ludibulle. \nOn vous donne rendez-vous à 16h45 à la Maison Jacques Prévert avec une participation de 0\,50cts par personnes.
URL:https://www.maisonjacquesprevert.fr/evenement/piscine-ludibulle/
CATEGORIES:Événement à la une,Maison Jacques Prévert,Petite enfance - Parentalité
ATTACH;FMTTYPE=image/jpeg:https://www.maisonjacquesprevert.fr/wp-content/uploads/2024/05/Capture-decran-2024-05-07-a-14.29.39.jpg
END:VEVENT
BEGIN:VEVENT
DTSTART;TZID=Europe/Paris:20240515T080000
DTEND;TZID=Europe/Paris:20240515T170000
DTSTAMP:20260424T004548
CREATED:20240507T144214Z
LAST-MODIFIED:20240507T144214Z
UID:1560-1715760000-1715792400@www.maisonjacquesprevert.fr
SUMMARY:Journée LEGO
DESCRIPTION:Rejoignez-nous pour une journée amusante de construction de LEGO pour les enfants de 3 à 6 ans en ce mercredi 15 mai. \nCette journée est l’occasion parfaite pour es petits bâtisseurs d’explorer leur imagination et de s’amuser avec des LEGO ! Les enfants peuvent participer à des activités de construction guidées ou créer leurs propre chefs-d’oeuvre.
URL:https://www.maisonjacquesprevert.fr/evenement/journee-lego/
CATEGORIES:Événement à la une,Maison Jacques Prévert,Petite enfance - Parentalité
ATTACH;FMTTYPE=image/jpeg:https://www.maisonjacquesprevert.fr/wp-content/uploads/2024/05/Capture-decran-2024-05-07-a-16.35.34.jpg
END:VEVENT
BEGIN:VEVENT
DTSTART;TZID=Europe/Paris:20240515T090000
DTEND;TZID=Europe/Paris:20240515T123000
DTSTAMP:20260424T004548
CREATED:20240507T145114Z
LAST-MODIFIED:20240507T145114Z
UID:1563-1715763600-1715776200@www.maisonjacquesprevert.fr
SUMMARY:On marche
DESCRIPTION:  \n \nVenez parcourir le bois robert à Saint germain d’étables 8kms \nLe rendez-vous est fixé à 9h pour une expérience en pleine air\, profitez de l’air frais et des paysages magnifiques tout en vous ressourçant lors de cette excursion. \n#OnMarche \n 
URL:https://www.maisonjacquesprevert.fr/evenement/on-marche-2/
CATEGORIES:Événement à la une,Fabrique / Adultes,Maison Jacques Prévert
ATTACH;FMTTYPE=image/jpeg:https://www.maisonjacquesprevert.fr/wp-content/uploads/2024/04/Capture-decran-2024-04-10-a-11.53.39.jpg
END:VEVENT
BEGIN:VEVENT
DTSTART;TZID=Europe/Paris:20240516T000000
DTEND;TZID=Europe/Paris:20240516T000000
DTSTAMP:20260424T004548
CREATED:20240516T135229Z
LAST-MODIFIED:20240516T135229Z
UID:1623-1715817600-1715817600@www.maisonjacquesprevert.fr
SUMMARY:Dessin sur verre
DESCRIPTION:Une nouvelle activité créative spécialement conçue pour les enfants  »dessin sur verre » qui se tiendra le mercredi 22 mai de 14h à 16h au Pôle La Fontaine. \nCet atelier offrira aux artiste l’opportunité de découvrir une technique amusante et originale : le dessin sur un verre. Cela va permettre aux enfants d’exprimer leur créativité pour créer leurs propre oeuvres. \n#DessinSurVerre #Créativité
URL:https://www.maisonjacquesprevert.fr/evenement/dessin-sur-verre/
CATEGORIES:Événement à la une,Maison Jacques Prévert,Petite enfance - Parentalité
ATTACH;FMTTYPE=image/jpeg:https://www.maisonjacquesprevert.fr/wp-content/uploads/2024/05/Capture-decran-2024-05-16-a-14.45.09.jpg
END:VEVENT
BEGIN:VEVENT
DTSTART;TZID=Europe/Paris:20240516T080000
DTEND;TZID=Europe/Paris:20240516T170000
DTSTAMP:20260424T004548
CREATED:20240516T122833Z
LAST-MODIFIED:20240516T122833Z
UID:1618-1715846400-1715878800@www.maisonjacquesprevert.fr
SUMMARY:Pilates
DESCRIPTION:Vous avez envie de vous détendre tout en restant en bonne santé ? alors venez vous détendre pendant une matinée Pilates au gymnase Léon Roger mardi 28 mai de 9h à 10h. \n#Pilates #Détente
URL:https://www.maisonjacquesprevert.fr/evenement/pilates-3/
CATEGORIES:Événement à la une,Famille,Maison Jacques Prévert
ATTACH;FMTTYPE=image/jpeg:https://www.maisonjacquesprevert.fr/wp-content/uploads/2024/05/Capture-decran-2024-05-15-a-11.37.33.jpg
END:VEVENT
BEGIN:VEVENT
DTSTART;TZID=Europe/Paris:20240516T091500
DTEND;TZID=Europe/Paris:20240516T120000
DTSTAMP:20260424T004548
CREATED:20240514T082743Z
LAST-MODIFIED:20240514T082743Z
UID:1568-1715850900-1715860800@www.maisonjacquesprevert.fr
SUMMARY:Jardin avec Alex
DESCRIPTION:Une matinée jardin avec Alex est prévu ce jeudi 16 mai à partir de 9h15. Ça sonne comme une excellente façon de passer du temps à l’extérieur pour pouvoir partagées vos talents de jardinier(e).
URL:https://www.maisonjacquesprevert.fr/evenement/jardin-avec-alex/
CATEGORIES:Événement à la une,Fabrique / Adultes,Maison Jacques Prévert
ATTACH;FMTTYPE=image/jpeg:https://www.maisonjacquesprevert.fr/wp-content/uploads/2024/05/cuisine-et-jardin.jpg
END:VEVENT
BEGIN:VEVENT
DTSTART;TZID=Europe/Paris:20240516T140000
DTEND;TZID=Europe/Paris:20240516T144500
DTSTAMP:20260424T004548
CREATED:20240514T083726Z
LAST-MODIFIED:20240514T083745Z
UID:1575-1715868000-1715870700@www.maisonjacquesprevert.fr
SUMMARY:Gym douce
DESCRIPTION:Reconnectez-vous avec votre corps et votre esprit lors de notre séance de gym douce ce jeudi 16 mai de 14h à 14h45 en compagnie des adhérents de la Maison Jacques Prévert ! \nRejoignez-nous pour une petite heure de détente et de bien être pour des exercices simples afin de renforcer nos muscles\, améliorer notre souplesse et apaiser notre esprit. \n#MaisonJacquesPrévert #GymDouce #BienÊtre
URL:https://www.maisonjacquesprevert.fr/evenement/gym-douce-4/
CATEGORIES:Événement à la une,Fabrique / Adultes,Maison Jacques Prévert
ATTACH;FMTTYPE=image/jpeg:https://www.maisonjacquesprevert.fr/wp-content/uploads/2024/03/gym-douce-1.jpg
END:VEVENT
BEGIN:VEVENT
DTSTART;TZID=Europe/Paris:20240516T140000
DTEND;TZID=Europe/Paris:20240516T160000
DTSTAMP:20260424T004548
CREATED:20240514T083440Z
LAST-MODIFIED:20240514T083440Z
UID:1573-1715868000-1715875200@www.maisonjacquesprevert.fr
SUMMARY:Couture
DESCRIPTION:Libérez votre créativité ! \nVous rêvez de créer votre propre vêtements et accessoires ? alors ne manquez pas notre prochain atelier couture qui se déroulera le jeudi 16 mai de 14h à 16h. \n#Couture #Création
URL:https://www.maisonjacquesprevert.fr/evenement/couture-10/
CATEGORIES:Événement à la une,Fabrique / Adultes,Maison Jacques Prévert
ATTACH;FMTTYPE=image/jpeg:https://www.maisonjacquesprevert.fr/wp-content/uploads/2024/03/couture-1-rotated.jpg
END:VEVENT
BEGIN:VEVENT
DTSTART;TZID=Europe/Paris:20240517T100000
DTEND;TZID=Europe/Paris:20240517T120000
DTSTAMP:20260424T004548
CREATED:20240514T090529Z
LAST-MODIFIED:20240514T090529Z
UID:1578-1715940000-1715947200@www.maisonjacquesprevert.fr
SUMMARY:Si on chantait
DESCRIPTION:Envie de laisser libre cours à votre voix et de montrer vos talents de chant ? Rejoignez-nous pour notre activité  »Si on chantait » ce vendredi 17 mai de 10h à 12h ! \nPas besoin d’être professionnel\, l’important est de partager notre passion pour la musique et de s’amuser ensemble ! \n#SiOnChantait #Musique #Convivialité
URL:https://www.maisonjacquesprevert.fr/evenement/si-on-chantait-5/
CATEGORIES:Événement à la une,Fabrique / Adultes,Maison Jacques Prévert
ATTACH;FMTTYPE=image/jpeg:https://www.maisonjacquesprevert.fr/wp-content/uploads/2024/03/si-on-chantait.jpg
END:VEVENT
BEGIN:VEVENT
DTSTART;TZID=Europe/Paris:20240517T154500
DTEND;TZID=Europe/Paris:20240517T164500
DTSTAMP:20260424T004548
CREATED:20240514T092227Z
LAST-MODIFIED:20240514T092809Z
UID:1583-1715960700-1715964300@www.maisonjacquesprevert.fr
SUMMARY:Yoga sur chaise
DESCRIPTION:Une séance de yoga sur chaise au gymnase Léon Roger est prévu le vendredi 17 mai de 15h45 jusqu’a 16h45 afin de vous détendre et vous recentrez ! \n#yoga #détente
URL:https://www.maisonjacquesprevert.fr/evenement/1583/
CATEGORIES:Événement à la une,Fabrique / Adultes,Maison Jacques Prévert
ATTACH;FMTTYPE=image/jpeg:https://www.maisonjacquesprevert.fr/wp-content/uploads/2024/05/Capture-decran-2024-05-14-a-11.10.49.jpg
END:VEVENT
BEGIN:VEVENT
DTSTART;TZID=Europe/Paris:20240521T090000
DTEND;TZID=Europe/Paris:20240521T100000
DTSTAMP:20260424T004548
CREATED:20240515T093816Z
LAST-MODIFIED:20240515T093816Z
UID:1613-1716282000-1716285600@www.maisonjacquesprevert.fr
SUMMARY:Pilates
DESCRIPTION:Vous avez envie de vous détendre tout en restant en bonne santé ? alors venez vous détendre pendant une matinée Pilates au gymnase Léon Roger mardi 21 mai de 9h à 10h. \n#Pilates #Détente
URL:https://www.maisonjacquesprevert.fr/evenement/pilates/
CATEGORIES:Événement à la une,Famille,Maison Jacques Prévert
ATTACH;FMTTYPE=image/jpeg:https://www.maisonjacquesprevert.fr/wp-content/uploads/2024/05/Capture-decran-2024-05-15-a-11.37.33.jpg
END:VEVENT
BEGIN:VEVENT
DTSTART;TZID=Europe/Paris:20240521T093000
DTEND;TZID=Europe/Paris:20240521T113000
DTSTAMP:20260424T004548
CREATED:20240514T093343Z
LAST-MODIFIED:20240514T094140Z
UID:1590-1716283800-1716291000@www.maisonjacquesprevert.fr
SUMMARY:Bricothèque Créative
DESCRIPTION:Rejoignez-nous pour une matinée à notre bricothèque le mardi 21 mai de 9h30 à 11h30 ! laissez libre cours à votre imagination pour venir bricoler. \n#Bricothèque #Création
URL:https://www.maisonjacquesprevert.fr/evenement/bricotheque-creative-3/
CATEGORIES:Événement à la une,Fabrique / Adultes,Maison Jacques Prévert
ATTACH;FMTTYPE=image/jpeg:https://www.maisonjacquesprevert.fr/wp-content/uploads/2024/03/Bricotheque-rotated.jpg
END:VEVENT
BEGIN:VEVENT
DTSTART;TZID=Europe/Paris:20240521T093000
DTEND;TZID=Europe/Paris:20240521T120000
DTSTAMP:20260424T004548
CREATED:20240514T093024Z
LAST-MODIFIED:20240514T093024Z
UID:1587-1716283800-1716292800@www.maisonjacquesprevert.fr
SUMMARY:Couture
DESCRIPTION:Libérez votre créativité ! \nVous rêvez de créer votre propre vêtements et accessoires ? alors ne manquez pas notre prochain atelier couture qui se déroulera le jeudi 21 mai de 9h30 à 12h. \n#Couture #Création
URL:https://www.maisonjacquesprevert.fr/evenement/couture-11/
CATEGORIES:Événement à la une,Fabrique / Adultes,Maison Jacques Prévert
ATTACH;FMTTYPE=image/jpeg:https://www.maisonjacquesprevert.fr/wp-content/uploads/2024/05/couture.jpg
END:VEVENT
BEGIN:VEVENT
DTSTART;TZID=Europe/Paris:20240521T140000
DTEND;TZID=Europe/Paris:20240521T160000
DTSTAMP:20260424T004548
CREATED:20240514T130611Z
LAST-MODIFIED:20240514T130611Z
UID:1597-1716300000-1716307200@www.maisonjacquesprevert.fr
SUMMARY:Tricot et Crochet
DESCRIPTION:Une après-midi relaxante et créative pour tricoter ! Rendez-vous mardi 21 mai à partir de 14h pour réaliser votre projet et profiter de votre passion. \n#TricotEtCrochet
URL:https://www.maisonjacquesprevert.fr/evenement/tricot-et-crochet-2/
CATEGORIES:Événement à la une,Fabrique / Adultes,Maison Jacques Prévert
ATTACH;FMTTYPE=image/jpeg:https://www.maisonjacquesprevert.fr/wp-content/uploads/2024/03/Capture-decran-2024-03-20-a-11.01.11.jpg
END:VEVENT
BEGIN:VEVENT
DTSTART;TZID=Europe/Paris:20240522T090000
DTEND;TZID=Europe/Paris:20240522T123000
DTSTAMP:20260424T004548
CREATED:20240514T131551Z
LAST-MODIFIED:20240514T131620Z
UID:1599-1716368400-1716381000@www.maisonjacquesprevert.fr
SUMMARY:On marche
DESCRIPTION:Venez parcourir le bois balthazar à Angiens 8\,9kms \nLe rendez-vous est fixé à 9h pour une expérience en pleine air\, profitez de l’air frais et des paysages magnifiques tout en vous ressourçant lors de cette excursion. \n#OnMarche \n 
URL:https://www.maisonjacquesprevert.fr/evenement/on-marche-3/
CATEGORIES:Événement à la une,Fabrique / Adultes,Maison Jacques Prévert
ATTACH;FMTTYPE=image/jpeg:https://www.maisonjacquesprevert.fr/wp-content/uploads/2024/04/Capture-decran-2024-04-10-a-11.53.39.jpg
END:VEVENT
BEGIN:VEVENT
DTSTART;TZID=Europe/Paris:20240523T084500
DTEND;TZID=Europe/Paris:20240523T104500
DTSTAMP:20260424T004548
CREATED:20240429T082814Z
LAST-MODIFIED:20240514T083834Z
UID:1531-1716453900-1716461100@www.maisonjacquesprevert.fr
SUMMARY:Réflexe santé
DESCRIPTION:Rejoignez-nous pour un café santé autour des plaies et brûlures le jeudi 23 mai à partir de 8h45 au rez de chaussée dans Tactil’lou Fable \nGratuit et ouvert à tous
URL:https://www.maisonjacquesprevert.fr/evenement/reflexe-sante/
LOCATION:Petit Prévert
CATEGORIES:Événement à la une,Famille,Maison Jacques Prévert
ATTACH;FMTTYPE=image/jpeg:https://www.maisonjacquesprevert.fr/wp-content/uploads/2024/04/Capture-decran-2024-04-29-102739.jpg
ORGANIZER;CN="Maison Jacques Pr%C3%A9vert":MAILTO:contact@maisonjacquesprevert.fr
END:VEVENT
BEGIN:VEVENT
DTSTART;TZID=Europe/Paris:20240523T084500
DTEND;TZID=Europe/Paris:20240523T120000
DTSTAMP:20260424T004548
CREATED:20240521T121158Z
LAST-MODIFIED:20240521T121158Z
UID:1638-1716453900-1716465600@www.maisonjacquesprevert.fr
SUMMARY:Atelier échanges entre parents
DESCRIPTION:Le café santé sera sur : les plaies et les brûlures \nRendez-vous le jeudi 23 mai à partir de 8h45 au rez de chaussée dans Tactilou fable
URL:https://www.maisonjacquesprevert.fr/evenement/atelier-echanges-entre-parents/
CATEGORIES:Événement à la une,Famille,Maison Jacques Prévert
ATTACH;FMTTYPE=image/jpeg:https://www.maisonjacquesprevert.fr/wp-content/uploads/2024/04/Capture-decran-2024-04-29-102739.jpg
END:VEVENT
BEGIN:VEVENT
DTSTART;TZID=Europe/Paris:20240523T091500
DTEND;TZID=Europe/Paris:20240523T133000
DTSTAMP:20260424T004548
CREATED:20240514T132605Z
LAST-MODIFIED:20240514T132724Z
UID:1603-1716455700-1716471000@www.maisonjacquesprevert.fr
SUMMARY:Cuisine et jardin
DESCRIPTION:Une journée bien remplie entre cuisine et jardinage ! Rendez-vous jeudi 23 mai à partir de 9h15 jusqu’a 13h30 à la Maison Jacques Prévert. \n#Cuisine #Jardinage
URL:https://www.maisonjacquesprevert.fr/evenement/cuisine-et-jardin/
CATEGORIES:Événement à la une,Fabrique / Adultes,Maison Jacques Prévert
ATTACH;FMTTYPE=image/jpeg:https://www.maisonjacquesprevert.fr/wp-content/uploads/2024/05/cuisine-et-jardin.jpg
END:VEVENT
BEGIN:VEVENT
DTSTART;TZID=Europe/Paris:20240523T140000
DTEND;TZID=Europe/Paris:20240523T163000
DTSTAMP:20260424T004548
CREATED:20240514T133015Z
LAST-MODIFIED:20240514T133015Z
UID:1605-1716472800-1716481800@www.maisonjacquesprevert.fr
SUMMARY:Couture
DESCRIPTION:Libérez votre créativité ! \nVous rêvez de créer votre propre vêtements et accessoires ? alors ne manquez pas notre prochain atelier couture qui se déroulera le jeudi 23 mai de 14h à 16h30. \n#Couture #Création
URL:https://www.maisonjacquesprevert.fr/evenement/couture-12/
CATEGORIES:Événement à la une,Fabrique / Adultes,Maison Jacques Prévert
ATTACH;FMTTYPE=image/jpeg:https://www.maisonjacquesprevert.fr/wp-content/uploads/2024/05/couture-1.jpg
END:VEVENT
BEGIN:VEVENT
DTSTART;TZID=Europe/Paris:20240524T140000
DTEND;TZID=Europe/Paris:20240524T163000
DTSTAMP:20260424T004548
CREATED:20240521T131028Z
LAST-MODIFIED:20240521T131653Z
UID:1647-1716559200-1716568200@www.maisonjacquesprevert.fr
SUMMARY:Couture
DESCRIPTION:Libérez votre créativité ! \nVous rêvez de créer votre propre vêtements et accessoires ? alors ne manquez pas notre prochain atelier couture qui se déroulera le vendredi 24 mai de 14h à 16h30. \n#Couture #Création
URL:https://www.maisonjacquesprevert.fr/evenement/couture-13/
CATEGORIES:Événement à la une,Fabrique / Adultes,Maison Jacques Prévert
ATTACH;FMTTYPE=image/jpeg:https://www.maisonjacquesprevert.fr/wp-content/uploads/2024/05/couture-1.jpg
END:VEVENT
BEGIN:VEVENT
DTSTART;TZID=Europe/Paris:20240528T090000
DTEND;TZID=Europe/Paris:20240528T100000
DTSTAMP:20260424T004548
CREATED:20240515T095933Z
LAST-MODIFIED:20240515T095933Z
UID:1616-1716886800-1716890400@www.maisonjacquesprevert.fr
SUMMARY:Pilates
DESCRIPTION:Vous avez envie de vous détendre tout en restant en bonne santé ? alors venez vous détendre pendant une matinée Pilates au gymnase Léon Roger mardi 28 mai de 9h à 10h. \n#Pilates #Détente
URL:https://www.maisonjacquesprevert.fr/evenement/pilates-2/
CATEGORIES:Événement à la une,Famille,Maison Jacques Prévert
ATTACH;FMTTYPE=image/jpeg:https://www.maisonjacquesprevert.fr/wp-content/uploads/2024/05/Capture-decran-2024-05-15-a-11.37.33.jpg
END:VEVENT
BEGIN:VEVENT
DTSTART;TZID=Europe/Paris:20240529T183000
DTEND;TZID=Europe/Paris:20240529T203000
DTSTAMP:20260424T004548
CREATED:20240429T083641Z
LAST-MODIFIED:20240502T124532Z
UID:1541-1717007400-1717014600@www.maisonjacquesprevert.fr
SUMMARY:Les RDV'S en soirée
DESCRIPTION:Séances découvertes : Yoga Danse \nLe yoga danse c’est quoi ? Des créations chorégraphiques sur tapis avec différentes styles de musiques. \nMercredi 29 mai \nMercredi 19 juin \nDe 18h30 à 20h30 Adapté à toutes – places limitées \nTarif 4€ d’adhésion à la MJP + 1€/séance \nInformations et inscriptions auprès d’Augustine 06.49.23.75.49 ou Valérie 06.40.44.19.26
URL:https://www.maisonjacquesprevert.fr/evenement/les-rdvs-en-soiree/
LOCATION:Salle Mille Club\, rue Léon Rogé (Janval)\, Dieppe\, 76200
CATEGORIES:Événement à la une,Famille,Maison Jacques Prévert
ATTACH;FMTTYPE=image/jpeg:https://www.maisonjacquesprevert.fr/wp-content/uploads/2024/04/Capture-decran-2024-04-29-103256.jpg
ORGANIZER;CN="Maison Jacques Pr%C3%A9vert":MAILTO:contact@maisonjacquesprevert.fr
END:VEVENT
END:VCALENDAR