BEGIN:VCALENDAR
VERSION:2.0
PRODID:-//Maison Jacques Prévert - ECPv6.15.20//NONSGML v1.0//EN
CALSCALE:GREGORIAN
METHOD:PUBLISH
X-WR-CALNAME:Maison Jacques Prévert
X-ORIGINAL-URL:https://www.maisonjacquesprevert.fr
X-WR-CALDESC:Évènements pour Maison Jacques Prévert
REFRESH-INTERVAL;VALUE=DURATION:PT1H
X-Robots-Tag:noindex
X-PUBLISHED-TTL:PT1H
BEGIN:VTIMEZONE
TZID:Europe/Paris
BEGIN:DAYLIGHT
TZOFFSETFROM:+0100
TZOFFSETTO:+0200
TZNAME:CEST
DTSTART:20230326T010000
END:DAYLIGHT
BEGIN:STANDARD
TZOFFSETFROM:+0200
TZOFFSETTO:+0100
TZNAME:CET
DTSTART:20231029T010000
END:STANDARD
BEGIN:DAYLIGHT
TZOFFSETFROM:+0100
TZOFFSETTO:+0200
TZNAME:CEST
DTSTART:20240331T010000
END:DAYLIGHT
BEGIN:STANDARD
TZOFFSETFROM:+0200
TZOFFSETTO:+0100
TZNAME:CET
DTSTART:20241027T010000
END:STANDARD
BEGIN:DAYLIGHT
TZOFFSETFROM:+0100
TZOFFSETTO:+0200
TZNAME:CEST
DTSTART:20250330T010000
END:DAYLIGHT
BEGIN:STANDARD
TZOFFSETFROM:+0200
TZOFFSETTO:+0100
TZNAME:CET
DTSTART:20251026T010000
END:STANDARD
END:VTIMEZONE
BEGIN:VEVENT
DTSTART;TZID=Europe/Paris:20240607T163000
DTEND;TZID=Europe/Paris:20240607T183000
DTSTAMP:20260423T230422
CREATED:20240528T134034Z
LAST-MODIFIED:20240528T145336Z
UID:1671-1717777800-1717785000@www.maisonjacquesprevert.fr
SUMMARY:Fête des petits lu
DESCRIPTION:LA FÊTE DES PETITS LUS APPROCHE !!\nAvec l’équipe et les parents de l’école Feldman nous vous avons préparé plein de surprises à venir découvrir le 7 juin!\n\n À destination de toutes les familles dont les enfants sont scolarisés à l’école Feldman.\n Appel aux parents: Nous faisons appel à votre participation pour préparer la fête (décoration de la cour\, confection des crêpes\, tenue de la buvette…).\n\nVous pouvez vous renseigner auprès des enseignants et de l’équipe petite enfance de la MJP (06.42.42.14.98).
URL:https://www.maisonjacquesprevert.fr/evenement/fete-des-petits-lu/
CATEGORIES:Événement à la une,Maison Jacques Prévert,Petite enfance - Parentalité
ATTACH;FMTTYPE=image/jpeg:https://www.maisonjacquesprevert.fr/wp-content/uploads/2024/05/Capture-decran-2024-05-28-a-14.14.44.jpg
END:VEVENT
BEGIN:VEVENT
DTSTART;TZID=Europe/Paris:20240619T143000
DTEND;TZID=Europe/Paris:20240619T170000
DTSTAMP:20260423T230422
CREATED:20240612T084052Z
LAST-MODIFIED:20240612T084343Z
UID:1752-1718807400-1718816400@www.maisonjacquesprevert.fr
SUMMARY:Gang Beasts
DESCRIPTION:  \n \nUn événement jeux vidéo  »Gang Beasts » aura lieu mercredi 19 juin à partir de 14h30 en Micro-Folie. Cet événement est destiné aux enfants à partir de 7 ans. \n 
URL:https://www.maisonjacquesprevert.fr/evenement/gang-beasts/
CATEGORIES:Événement à la une,Maison Jacques Prévert,Micro-folie
ATTACH;FMTTYPE=image/jpeg:https://www.maisonjacquesprevert.fr/wp-content/uploads/2024/06/Gang_Beasts_juinl_2024@2x-100.jpg
END:VEVENT
BEGIN:VEVENT
DTSTART;TZID=Europe/Paris:20240620T084500
DTEND;TZID=Europe/Paris:20240620T104500
DTSTAMP:20260423T230422
CREATED:20240429T083006Z
LAST-MODIFIED:20240502T124705Z
UID:1537-1718873100-1718880300@www.maisonjacquesprevert.fr
SUMMARY:Réflexe santé
DESCRIPTION:Café santé autour des coups de chaleurs et piqûres le jeudi 20 juin à partir de 8h45 au rez de chaussée dans Tactilou Fable \nOuvert à tous et gratuit
URL:https://www.maisonjacquesprevert.fr/evenement/reflexe-sante-2/
LOCATION:Petit Prévert
CATEGORIES:Événement à la une,Famille,Maison Jacques Prévert
ATTACH;FMTTYPE=image/jpeg:https://www.maisonjacquesprevert.fr/wp-content/uploads/2024/04/Capture-decran-2024-04-29-102739.jpg
ORGANIZER;CN="Maison Jacques Pr%C3%A9vert":MAILTO:contact@maisonjacquesprevert.fr
END:VEVENT
BEGIN:VEVENT
DTSTART;TZID=Europe/Paris:20240626T170000
DTEND;TZID=Europe/Paris:20240626T200000
DTSTAMP:20260423T230422
CREATED:20240612T082209Z
LAST-MODIFIED:20240613T123116Z
UID:1755-1719421200-1719432000@www.maisonjacquesprevert.fr
SUMMARY:Normandie Impressionnisme
DESCRIPTION:  \n \nMercredi 26 juin à partir de 17h aura lieu le lancement et la présentation de la nouvelle collection  »Impressionnisme » à la Micro-Folie de Dieppe. \nDés 16h\, la Maison Jacques Prévert vous proposera différents ateliers autour de l’Impressionnisme \nInvitation au lancement et présentation de la collection impressionniste Micro-Folie Dieppe \n  \n 
URL:https://www.maisonjacquesprevert.fr/evenement/normandie-impressionniste/
CATEGORIES:Événement à la une,Maison Jacques Prévert,Micro-folie
ATTACH;FMTTYPE=image/jpeg:https://www.maisonjacquesprevert.fr/wp-content/uploads/2024/06/inauguration_26_juin_2024@2x-100-2.jpg
END:VEVENT
END:VCALENDAR