BEGIN:VCALENDAR
VERSION:2.0
PRODID:-//Maison Jacques Prévert - ECPv6.15.20//NONSGML v1.0//EN
CALSCALE:GREGORIAN
METHOD:PUBLISH
X-ORIGINAL-URL:https://www.maisonjacquesprevert.fr
X-WR-CALDESC:Évènements pour Maison Jacques Prévert
REFRESH-INTERVAL;VALUE=DURATION:PT1H
X-Robots-Tag:noindex
X-PUBLISHED-TTL:PT1H
BEGIN:VTIMEZONE
TZID:Europe/Paris
BEGIN:DAYLIGHT
TZOFFSETFROM:+0100
TZOFFSETTO:+0200
TZNAME:CEST
DTSTART:20230326T010000
END:DAYLIGHT
BEGIN:STANDARD
TZOFFSETFROM:+0200
TZOFFSETTO:+0100
TZNAME:CET
DTSTART:20231029T010000
END:STANDARD
BEGIN:DAYLIGHT
TZOFFSETFROM:+0100
TZOFFSETTO:+0200
TZNAME:CEST
DTSTART:20240331T010000
END:DAYLIGHT
BEGIN:STANDARD
TZOFFSETFROM:+0200
TZOFFSETTO:+0100
TZNAME:CET
DTSTART:20241027T010000
END:STANDARD
BEGIN:DAYLIGHT
TZOFFSETFROM:+0100
TZOFFSETTO:+0200
TZNAME:CEST
DTSTART:20250330T010000
END:DAYLIGHT
BEGIN:STANDARD
TZOFFSETFROM:+0200
TZOFFSETTO:+0100
TZNAME:CET
DTSTART:20251026T010000
END:STANDARD
END:VTIMEZONE
BEGIN:VEVENT
DTSTART;TZID=Europe/Paris:20240322T090000
DTEND;TZID=Europe/Paris:20240322T120000
DTSTAMP:20260424T053609
CREATED:20240319T160448Z
LAST-MODIFIED:20240319T160552Z
UID:1031-1711098000-1711108800@www.maisonjacquesprevert.fr
SUMMARY:Petite Marche
DESCRIPTION:Prêt pour une longue marche ? La Fabrique vous invite lors d’une activité « Petite Marche » ce vendredi 22 mars ! Les adhérents se retrouveront pour une marche ensemble à Montigny Les-Cents-Acres sur un parcours de 6\,7 km. \nProfitez de cette occasion pour respirer l’air frais\, vous détendre au milieu de la nature et faire un peu d’exercice en bonne compagnies. \nRendez-vous à la MJP avec des chaussures confortables\, une bouteille d’eau et votre plus beau sourire ! \n#PetiteMarche #Montigny #LesCentsAcre
URL:https://www.maisonjacquesprevert.fr/evenement/petite-marche/
CATEGORIES:Événement à la une,Fabrique / Adultes,Maison Jacques Prévert
ATTACH;FMTTYPE=image/jpeg:https://www.maisonjacquesprevert.fr/wp-content/uploads/2024/03/on-marche-1.jpg
END:VEVENT
BEGIN:VEVENT
DTSTART;TZID=Europe/Paris:20240322T100000
DTEND;TZID=Europe/Paris:20240322T120000
DTSTAMP:20260424T053609
CREATED:20240319T155003Z
LAST-MODIFIED:20240320T100736Z
UID:1028-1711101600-1711108800@www.maisonjacquesprevert.fr
SUMMARY:Si on chantait !
DESCRIPTION:Envie de laisser libre cours à votre voix et de montrer vos talents de chant ? Rejoignez-nous pour notre activité  »Si on chantait » ce vendredi 22 mars de 10h à 12h ! \nPas besoin d’être professionnel\, l’important est de partager notre passion pour la musique et de s’amuser ensemble ! \n#SiOnChantait #Musique #Convivialité
URL:https://www.maisonjacquesprevert.fr/evenement/si-on-chantait/
CATEGORIES:Événement à la une,Fabrique / Adultes,Maison Jacques Prévert
ATTACH;FMTTYPE=image/jpeg:https://www.maisonjacquesprevert.fr/wp-content/uploads/2024/03/si-on-chantait.jpg
END:VEVENT
BEGIN:VEVENT
DTSTART;TZID=Europe/Paris:20240322T103000
DTEND;TZID=Europe/Paris:20240322T111500
DTSTAMP:20260424T053609
CREATED:20240315T105647Z
LAST-MODIFIED:20240315T105919Z
UID:959-1711103400-1711106100@www.maisonjacquesprevert.fr
SUMMARY:Projet Babil
DESCRIPTION:Création musicale pour les enfants de 1 à 3 ans accompagnés d’un parent. \nDe 10h30 à 11h15 le \n22 mars/19 avril/24 mai/14 juin à Tactil’lou Fable \nRestitution le 2 juillet à la MJP
URL:https://www.maisonjacquesprevert.fr/evenement/959/
CATEGORIES:Événement à la une,Maison Jacques Prévert,Petite enfance - Parentalité
ATTACH;FMTTYPE=image/jpeg:https://www.maisonjacquesprevert.fr/wp-content/uploads/2024/03/Capture-decran-2024-03-15-a-11.54.06.jpg
END:VEVENT
END:VCALENDAR