BEGIN:VCALENDAR
VERSION:2.0
PRODID:-//Maison Jacques Prévert - ECPv6.15.20//NONSGML v1.0//EN
CALSCALE:GREGORIAN
METHOD:PUBLISH
X-ORIGINAL-URL:https://www.maisonjacquesprevert.fr
X-WR-CALDESC:Évènements pour Maison Jacques Prévert
REFRESH-INTERVAL;VALUE=DURATION:PT1H
X-Robots-Tag:noindex
X-PUBLISHED-TTL:PT1H
BEGIN:VTIMEZONE
TZID:Europe/Paris
BEGIN:DAYLIGHT
TZOFFSETFROM:+0100
TZOFFSETTO:+0200
TZNAME:CEST
DTSTART:20230326T010000
END:DAYLIGHT
BEGIN:STANDARD
TZOFFSETFROM:+0200
TZOFFSETTO:+0100
TZNAME:CET
DTSTART:20231029T010000
END:STANDARD
BEGIN:DAYLIGHT
TZOFFSETFROM:+0100
TZOFFSETTO:+0200
TZNAME:CEST
DTSTART:20240331T010000
END:DAYLIGHT
BEGIN:STANDARD
TZOFFSETFROM:+0200
TZOFFSETTO:+0100
TZNAME:CET
DTSTART:20241027T010000
END:STANDARD
BEGIN:DAYLIGHT
TZOFFSETFROM:+0100
TZOFFSETTO:+0200
TZNAME:CEST
DTSTART:20250330T010000
END:DAYLIGHT
BEGIN:STANDARD
TZOFFSETFROM:+0200
TZOFFSETTO:+0100
TZNAME:CET
DTSTART:20251026T010000
END:STANDARD
END:VTIMEZONE
BEGIN:VEVENT
DTSTART;TZID=Europe/Paris:20240329T100000
DTEND;TZID=Europe/Paris:20240329T120000
DTSTAMP:20260424T053418
CREATED:20240321T150824Z
LAST-MODIFIED:20240321T150824Z
UID:1179-1711706400-1711713600@www.maisonjacquesprevert.fr
SUMMARY:Si on chantait
DESCRIPTION:Envie de laisser libre cours à votre voix et de montrer vos talents de chant ? Rejoignez-nous pour notre activité  »Si on chantait » ce vendredi 22 mars de 10h à 12h ! \nPas besoin d’être professionnel\, l’important est de partager notre passion pour la musique et de s’amuser ensemble ! \n#SiOnChantait #Musique #Convivialité
URL:https://www.maisonjacquesprevert.fr/evenement/si-on-chantait-2/
CATEGORIES:Événement à la une,Fabrique / Adultes,Maison Jacques Prévert
ATTACH;FMTTYPE=image/jpeg:https://www.maisonjacquesprevert.fr/wp-content/uploads/2024/03/si-on-chantait.jpg
END:VEVENT
BEGIN:VEVENT
DTSTART;TZID=Europe/Paris:20240329T183000
DTEND;TZID=Europe/Paris:20240329T200000
DTSTAMP:20260424T053418
CREATED:20240315T100139Z
LAST-MODIFIED:20240315T100139Z
UID:902-1711737000-1711742400@www.maisonjacquesprevert.fr
SUMMARY:Soirée Renc'Art Knowledge Is Power
DESCRIPTION:Victime de son succès les mercredis après-midis\, la Micro-Folie vous propose de découvrir le fameux  »knowledge is power » lors d’une soirée Renc’Art le vendredi 29 mars 2024 à partir de 18h30 à la Micro-Folie / Bibliothèque de la Maison Jacques Prévert !\n\n\nIl y a seulement 12 places alors n’hésitez pas à réserver au 02 35 82 71 20 ou 07 88 21 28 73
URL:https://www.maisonjacquesprevert.fr/evenement/soiree-rencart-knowledge-is-power/
LOCATION:Maison Jacques Prévert\, Rue Montigny\, Dieppe\, 76200\, France
CATEGORIES:Événement à la une,Maison Jacques Prévert,Micro-folie
ATTACH;FMTTYPE=image/jpeg:https://www.maisonjacquesprevert.fr/wp-content/uploads/2024/03/RencArt_KiP_recto@2x-100-1.jpeg
ORGANIZER;CN="Maison Jacques Pr%C3%A9vert":MAILTO:contact@maisonjacquesprevert.fr
END:VEVENT
END:VCALENDAR