BEGIN:VCALENDAR
VERSION:2.0
PRODID:-//Maison Jacques Prévert - ECPv6.15.20//NONSGML v1.0//EN
CALSCALE:GREGORIAN
METHOD:PUBLISH
X-WR-CALNAME:Maison Jacques Prévert
X-ORIGINAL-URL:https://www.maisonjacquesprevert.fr
X-WR-CALDESC:Évènements pour Maison Jacques Prévert
REFRESH-INTERVAL;VALUE=DURATION:PT1H
X-Robots-Tag:noindex
X-PUBLISHED-TTL:PT1H
BEGIN:VTIMEZONE
TZID:Europe/Paris
BEGIN:DAYLIGHT
TZOFFSETFROM:+0100
TZOFFSETTO:+0200
TZNAME:CEST
DTSTART:20230326T010000
END:DAYLIGHT
BEGIN:STANDARD
TZOFFSETFROM:+0200
TZOFFSETTO:+0100
TZNAME:CET
DTSTART:20231029T010000
END:STANDARD
BEGIN:DAYLIGHT
TZOFFSETFROM:+0100
TZOFFSETTO:+0200
TZNAME:CEST
DTSTART:20240331T010000
END:DAYLIGHT
BEGIN:STANDARD
TZOFFSETFROM:+0200
TZOFFSETTO:+0100
TZNAME:CET
DTSTART:20241027T010000
END:STANDARD
BEGIN:DAYLIGHT
TZOFFSETFROM:+0100
TZOFFSETTO:+0200
TZNAME:CEST
DTSTART:20250330T010000
END:DAYLIGHT
BEGIN:STANDARD
TZOFFSETFROM:+0200
TZOFFSETTO:+0100
TZNAME:CET
DTSTART:20251026T010000
END:STANDARD
END:VTIMEZONE
BEGIN:VEVENT
DTSTART;TZID=Europe/Paris:20240502T080000
DTEND;TZID=Europe/Paris:20240502T170000
DTSTAMP:20260424T022722
CREATED:20240424T095004Z
LAST-MODIFIED:20240424T095004Z
UID:1509-1714636800-1714669200@www.maisonjacquesprevert.fr
SUMMARY:Cuisine
DESCRIPTION:Venez passer une journée délicieuse avec vos enfants lors de notre atelier de cuisine spécialement conçus pour les enfants de 3 à 6 ans ! \nCet événement est une occasion idéale pour les petits chefs d’apprendre à préparer de délicieux plats tout en s’amusant. \n#Cuisine #Enfants
URL:https://www.maisonjacquesprevert.fr/evenement/cuisine/
CATEGORIES:Événement à la une,Maison Jacques Prévert,Petite enfance - Parentalité
ATTACH;FMTTYPE=image/jpeg:https://www.maisonjacquesprevert.fr/wp-content/uploads/2024/04/Capture-decran-2024-04-24-a-11.45.43.jpg
END:VEVENT
BEGIN:VEVENT
DTSTART;TZID=Europe/Paris:20240502T080000
DTEND;TZID=Europe/Paris:20240502T170000
DTSTAMP:20260424T022722
CREATED:20240430T133803Z
LAST-MODIFIED:20240430T133803Z
UID:1546-1714636800-1714669200@www.maisonjacquesprevert.fr
SUMMARY:Olympiade
DESCRIPTION:Un atelier olympiade est organisé par l’enfance-jeunesse jeudi 2 mai. \nSoyez prêt a vous affrontez sur différent parcours au gymnase Léon Roger. \nLes 6-7 ans et les 8 à 10 ans à partir de 14h.
URL:https://www.maisonjacquesprevert.fr/evenement/olympiade/
CATEGORIES:Enfance - Jeunesse,Événement à la une,Maison Jacques Prévert
ATTACH;FMTTYPE=image/jpeg:https://www.maisonjacquesprevert.fr/wp-content/uploads/2024/04/IMG_6742-rotated.jpeg
END:VEVENT
END:VCALENDAR