BEGIN:VCALENDAR
VERSION:2.0
PRODID:-//Maison Jacques Prévert - ECPv6.15.20//NONSGML v1.0//EN
CALSCALE:GREGORIAN
METHOD:PUBLISH
X-WR-CALNAME:Maison Jacques Prévert
X-ORIGINAL-URL:https://www.maisonjacquesprevert.fr
X-WR-CALDESC:Évènements pour Maison Jacques Prévert
REFRESH-INTERVAL;VALUE=DURATION:PT1H
X-Robots-Tag:noindex
X-PUBLISHED-TTL:PT1H
BEGIN:VTIMEZONE
TZID:Europe/Paris
BEGIN:DAYLIGHT
TZOFFSETFROM:+0100
TZOFFSETTO:+0200
TZNAME:CEST
DTSTART:20230326T010000
END:DAYLIGHT
BEGIN:STANDARD
TZOFFSETFROM:+0200
TZOFFSETTO:+0100
TZNAME:CET
DTSTART:20231029T010000
END:STANDARD
BEGIN:DAYLIGHT
TZOFFSETFROM:+0100
TZOFFSETTO:+0200
TZNAME:CEST
DTSTART:20240331T010000
END:DAYLIGHT
BEGIN:STANDARD
TZOFFSETFROM:+0200
TZOFFSETTO:+0100
TZNAME:CET
DTSTART:20241027T010000
END:STANDARD
BEGIN:DAYLIGHT
TZOFFSETFROM:+0100
TZOFFSETTO:+0200
TZNAME:CEST
DTSTART:20250330T010000
END:DAYLIGHT
BEGIN:STANDARD
TZOFFSETFROM:+0200
TZOFFSETTO:+0100
TZNAME:CET
DTSTART:20251026T010000
END:STANDARD
END:VTIMEZONE
BEGIN:VEVENT
DTSTART;TZID=Europe/Paris:20240607T163000
DTEND;TZID=Europe/Paris:20240607T183000
DTSTAMP:20260424T004638
CREATED:20240528T134034Z
LAST-MODIFIED:20240528T145336Z
UID:1671-1717777800-1717785000@www.maisonjacquesprevert.fr
SUMMARY:Fête des petits lu
DESCRIPTION:LA FÊTE DES PETITS LUS APPROCHE !!\nAvec l’équipe et les parents de l’école Feldman nous vous avons préparé plein de surprises à venir découvrir le 7 juin!\n\n À destination de toutes les familles dont les enfants sont scolarisés à l’école Feldman.\n Appel aux parents: Nous faisons appel à votre participation pour préparer la fête (décoration de la cour\, confection des crêpes\, tenue de la buvette…).\n\nVous pouvez vous renseigner auprès des enseignants et de l’équipe petite enfance de la MJP (06.42.42.14.98).
URL:https://www.maisonjacquesprevert.fr/evenement/fete-des-petits-lu/
CATEGORIES:Événement à la une,Maison Jacques Prévert,Petite enfance - Parentalité
ATTACH;FMTTYPE=image/jpeg:https://www.maisonjacquesprevert.fr/wp-content/uploads/2024/05/Capture-decran-2024-05-28-a-14.14.44.jpg
END:VEVENT
END:VCALENDAR