BEGIN:VCALENDAR
VERSION:2.0
PRODID:-//Maison Jacques Prévert - ECPv6.15.20//NONSGML v1.0//EN
CALSCALE:GREGORIAN
METHOD:PUBLISH
X-WR-CALNAME:Maison Jacques Prévert
X-ORIGINAL-URL:https://www.maisonjacquesprevert.fr
X-WR-CALDESC:Évènements pour Maison Jacques Prévert
REFRESH-INTERVAL;VALUE=DURATION:PT1H
X-Robots-Tag:noindex
X-PUBLISHED-TTL:PT1H
BEGIN:VTIMEZONE
TZID:Europe/Paris
BEGIN:DAYLIGHT
TZOFFSETFROM:+0100
TZOFFSETTO:+0200
TZNAME:CEST
DTSTART:20240331T010000
END:DAYLIGHT
BEGIN:STANDARD
TZOFFSETFROM:+0200
TZOFFSETTO:+0100
TZNAME:CET
DTSTART:20241027T010000
END:STANDARD
BEGIN:DAYLIGHT
TZOFFSETFROM:+0100
TZOFFSETTO:+0200
TZNAME:CEST
DTSTART:20250330T010000
END:DAYLIGHT
BEGIN:STANDARD
TZOFFSETFROM:+0200
TZOFFSETTO:+0100
TZNAME:CET
DTSTART:20251026T010000
END:STANDARD
BEGIN:DAYLIGHT
TZOFFSETFROM:+0100
TZOFFSETTO:+0200
TZNAME:CEST
DTSTART:20260329T010000
END:DAYLIGHT
BEGIN:STANDARD
TZOFFSETFROM:+0200
TZOFFSETTO:+0100
TZNAME:CET
DTSTART:20261025T010000
END:STANDARD
END:VTIMEZONE
BEGIN:VEVENT
DTSTART;TZID=Europe/Paris:20251001T140000
DTEND;TZID=Europe/Paris:20251001T153000
DTSTAMP:20260424T152155
CREATED:20250912T155259Z
LAST-MODIFIED:20250912T155259Z
UID:2510-1759327200-1759332600@www.maisonjacquesprevert.fr
SUMMARY:présentation saison numérique MJP I Microfolie
DESCRIPTION:La MJP lance sa 1ère saison numérique 📱💡 \nPrésentation du programme inédit d’ateliers créatifs\, pratiques et solidaires pour tous les habitants. \nLors de ce rendez-vous\, nous vous présenterons aussi toutes les modalités d’inscription aux ateliers.
URL:https://www.maisonjacquesprevert.fr/evenement/presentation-saison-numerique-mjp-i-microfolie/
LOCATION:Maison Jacques Prévert\, Rue Montigny\, Dieppe\, 76200\, France
CATEGORIES:Événement à la une,Maison Jacques Prévert,Micro-folie
ATTACH;FMTTYPE=image/jpeg:https://www.maisonjacquesprevert.fr/wp-content/uploads/2025/09/IMG_1276.jpeg
ORGANIZER;CN="Maison Jacques Pr%C3%A9vert":MAILTO:contact@maisonjacquesprevert.fr
END:VEVENT
BEGIN:VEVENT
DTSTART;TZID=Europe/Paris:20251003T183000
DTEND;TZID=Europe/Paris:20251003T220000
DTSTAMP:20260424T152155
CREATED:20250925T183615Z
LAST-MODIFIED:20250925T183615Z
UID:2524-1759516200-1759528800@www.maisonjacquesprevert.fr
SUMMARY:La nuit de la science - court métrage et film Wall.e
DESCRIPTION:la « Nuit de la Science »\, autour du thème : « Les machines font leur cinéma ». \nTrois courts-métrages de fiction\, émouvants et surprenants\, pour réfléchir ensemble à la place qu’occupent aujourd’hui les machines\, les robots et l’intelligence artificielle dans nos vies. \nEntre chaque film\, deux chercheurs du laboratoire LITIS (Université de Rouen Normandie et INSA Rouen Normandie) partageront leur regard et répondront aux questions du public\, dans une ambiance conviviale et accessible à toutes et tous. \nDiffusion du film wall.e
URL:https://www.maisonjacquesprevert.fr/evenement/la-nuit-de-la-science-court-metrage-et-film-wall-e/
LOCATION:Maison Jacques Prévert\, Rue Montigny\, Dieppe\, 76200\, France
CATEGORIES:Événement à la une,Fabrique / Adultes,Famille,Maison Jacques Prévert,Micro-folie
ATTACH;FMTTYPE=image/jpeg:https://www.maisonjacquesprevert.fr/wp-content/uploads/2025/09/Digital_F_I21.jpg
ORGANIZER;CN="Maison Jacques Pr%C3%A9vert":MAILTO:contact@maisonjacquesprevert.fr
END:VEVENT
BEGIN:VEVENT
DTSTART;TZID=Europe/Paris:20251014T150000
DTEND;TZID=Europe/Paris:20251014T170000
DTSTAMP:20260424T152155
CREATED:20251010T071321Z
LAST-MODIFIED:20251010T071321Z
UID:2569-1760454000-1760461200@www.maisonjacquesprevert.fr
SUMMARY:Représentation "La tactique de la tique"
DESCRIPTION:« Notre histoire commence dans un bourg rustique situé près de New York ; cette ville s’appelle Lyme. Eh bien\, à Lyme dans les années 1970\, un nombre important de la population souffre de fatigue chronique souvent accompagnée d’arthrite\, en particulier des genoux\, laissant à penser qu’il s’agit de rhumatisme… » \n  \nUne conférence sur les mœurs insoupçonnées et passionnantes de la tique\, et sur la maladie de Lyme et ce présentée de façon spirituelle par des comédiens du Théâtre de la Bataille. D’après les recherches et en présence du Docteur Jacquemard.
URL:https://www.maisonjacquesprevert.fr/evenement/representation-la-tactique-de-la-tique/
LOCATION:Maison Jacques Prévert\, Rue Montigny\, Dieppe\, 76200\, France
CATEGORIES:Fabrique / Adultes,Maison Jacques Prévert
ATTACH;FMTTYPE=image/jpeg:https://www.maisonjacquesprevert.fr/wp-content/uploads/2025/09/COM-tactique-de-la-tique_14102025_rdvculture_saison2025_2026.jpg
ORGANIZER;CN="Maison Jacques Pr%C3%A9vert":MAILTO:contact@maisonjacquesprevert.fr
END:VEVENT
BEGIN:VEVENT
DTSTART;TZID=Europe/Paris:20251016T090000
DTEND;TZID=Europe/Paris:20251016T123000
DTSTAMP:20260424T152155
CREATED:20250925T183627Z
LAST-MODIFIED:20250925T183758Z
UID:2528-1760605200-1760617800@www.maisonjacquesprevert.fr
SUMMARY:La petite conserverie
DESCRIPTION:
URL:https://www.maisonjacquesprevert.fr/evenement/la-petite-conserverie/
CATEGORIES:Fabrique / Adultes,Famille,Maison Jacques Prévert,Micro-folie
ATTACH;FMTTYPE=image/jpeg:https://www.maisonjacquesprevert.fr/wp-content/uploads/2025/05/499969166_1004230475190970_1344702997344473246_n.jpg
ORGANIZER;CN="Maison Jacques Pr%C3%A9vert":MAILTO:contact@maisonjacquesprevert.fr
END:VEVENT
BEGIN:VEVENT
DTSTART;TZID=Europe/Paris:20251023T180000
DTEND;TZID=Europe/Paris:20251023T190000
DTSTAMP:20260424T152155
CREATED:20251010T071340Z
LAST-MODIFIED:20251010T071340Z
UID:2571-1761242400-1761246000@www.maisonjacquesprevert.fr
SUMMARY:Spectacle "MOUSSE" par la Cie ANORAKS - Gaëlle COPPÉE et Denis MICHIELS
DESCRIPTION:Être généreux\, c’est oser prendre un risque. \nSur scène\, Gaëlle la jongleuse et Denis le technicien affrontent le monde ensemble. Pour ne pas avoir peur\, ils s’accrochent\, se soutiennent\, et se racontent que jongler\, c’est vivre. \nMousse parle d’amitié\, de solitude\, de ces petits riens qu’on garde pour soi et qu’on ose enfin partager. Il y a des balles\, un micro\, un jardinier\, une plante\, un k-way de grand-mère\, France Gall\, Barbara\, un coiffeur… et un karaoké. \nSpectacle tout public à partir de 6 ans. \n  \nVéritablement charmant — Les Trois Coups\nUn pur moment de plaisir — Le Soir\nUn « solo à deux »\, où le jonglage fait la part belle à l’humour\, au burlesque\, à l’absurde et à la poésie. — Libre Théâtre \nCe spectacle est proposé par DSN dans le cadre de sa programmation itinérante « Hors les murs » et en partenariat avec la Maison Jacques Prévert\, les communes d’Arques-la- Bataille et de Petit-Caux.
URL:https://www.maisonjacquesprevert.fr/evenement/spectacle-mousse-par-la-cie-anoraks-gaelle-coppee-et-denis-michiels/
LOCATION:Maison Jacques Prévert\, Rue Montigny\, Dieppe\, 76200\, France
CATEGORIES:Maison Jacques Prévert
ATTACH;FMTTYPE=image/jpeg:https://www.maisonjacquesprevert.fr/wp-content/uploads/2025/10/Mousse3-c-Thomas-Andrien.jpg
ORGANIZER;CN="Maison Jacques Pr%C3%A9vert":MAILTO:contact@maisonjacquesprevert.fr
END:VEVENT
BEGIN:VEVENT
DTSTART;TZID=Europe/Paris:20251029T143000
DTEND;TZID=Europe/Paris:20251029T153000
DTSTAMP:20260424T152155
CREATED:20251010T071400Z
LAST-MODIFIED:20251010T071400Z
UID:2578-1761748200-1761751800@www.maisonjacquesprevert.fr
SUMMARY:Spectacle "Je vous dis que la sorcière est gentille" - Cie Jeanne Bernard
DESCRIPTION:Une petite poupée se réveille dans un monde qui lui est inconnu… Lorsqu’elle ouvre les yeux\, elle se retrouve sur l’étagère d’Hazel : une gentille sorcière qui l’a recueillie et réparée après l’avoir trouvée dans les bois. \nTotalement amnésique\, la petite poupée se fait alors renommer Poucelina. Elle apprend alors que sa bienfaitrice est victime de la mauvaise réputation des sorcières ! Notre héroïne s’engage donc à prouver que les apparences peuvent être trompeuses. \nAu cours de sa quête de l’arbre magique\, seul capable d’exaucer le vœu de son choix\, elle fera la rencontre d’un ours en peluche\, d’un loup ou encore d’un fantôme. Mais une fois l’arbre trouvé\, que choisira-t-elle ? Retrouver son identité ? Ou défendre Hazel ? \n  \nTout public à partir de 3 ans
URL:https://www.maisonjacquesprevert.fr/evenement/spectacle-je-vous-dis-que-la-sorciere-est-gentille-cie-jeanne-bernard/
LOCATION:Maison Jacques Prévert\, Rue Montigny\, Dieppe\, 76200\, France
CATEGORIES:Maison Jacques Prévert
ATTACH;FMTTYPE=image/jpeg:https://www.maisonjacquesprevert.fr/wp-content/uploads/2025/10/553206878_603790442820112_9032962831160033490_n.jpg
ORGANIZER;CN="Maison Jacques Pr%C3%A9vert":MAILTO:contact@maisonjacquesprevert.fr
END:VEVENT
END:VCALENDAR