BEGIN:VCALENDAR
VERSION:2.0
PRODID:-//Maison Jacques Prévert - ECPv6.15.20//NONSGML v1.0//EN
CALSCALE:GREGORIAN
METHOD:PUBLISH
X-WR-CALNAME:Maison Jacques Prévert
X-ORIGINAL-URL:https://www.maisonjacquesprevert.fr
X-WR-CALDESC:Évènements pour Maison Jacques Prévert
REFRESH-INTERVAL;VALUE=DURATION:PT1H
X-Robots-Tag:noindex
X-PUBLISHED-TTL:PT1H
BEGIN:VTIMEZONE
TZID:Europe/Paris
BEGIN:DAYLIGHT
TZOFFSETFROM:+0100
TZOFFSETTO:+0200
TZNAME:CEST
DTSTART:20230326T010000
END:DAYLIGHT
BEGIN:STANDARD
TZOFFSETFROM:+0200
TZOFFSETTO:+0100
TZNAME:CET
DTSTART:20231029T010000
END:STANDARD
BEGIN:DAYLIGHT
TZOFFSETFROM:+0100
TZOFFSETTO:+0200
TZNAME:CEST
DTSTART:20240331T010000
END:DAYLIGHT
BEGIN:STANDARD
TZOFFSETFROM:+0200
TZOFFSETTO:+0100
TZNAME:CET
DTSTART:20241027T010000
END:STANDARD
BEGIN:DAYLIGHT
TZOFFSETFROM:+0100
TZOFFSETTO:+0200
TZNAME:CEST
DTSTART:20250330T010000
END:DAYLIGHT
BEGIN:STANDARD
TZOFFSETFROM:+0200
TZOFFSETTO:+0100
TZNAME:CET
DTSTART:20251026T010000
END:STANDARD
END:VTIMEZONE
BEGIN:VEVENT
DTSTART;TZID=Europe/Paris:20240308T133000
DTEND;TZID=Europe/Paris:20240308T170000
DTSTAMP:20260426T033112
CREATED:20240301T131417Z
LAST-MODIFIED:20240320T132222Z
UID:793-1709904600-1709917200@www.maisonjacquesprevert.fr
SUMMARY:Sortie Trampoline Park
DESCRIPTION:L’équipe de l’enfance/jeunesse vous invite à une journée inoubliable au Trampoline Park. \nÀ seulement 8€ par participation\, cette sortie est une occasion à ne pas manquer pour les amateurs de sensations fortes. Le Trampoline Park offre des activités pour tous les niveau d’expérience. \nVous êtes assuré de passer un moment mémorable et plein d’énergie au Trampoline Park alors préparez-vous à sauter\, rebondir et vous amuser. \nVenez réserver votre place pour cette expérience inoubliable\, l’inscription se fait à la Maison Jacques Prévert. \n#TrampolinePark #Rire
URL:https://www.maisonjacquesprevert.fr/evenement/sortie-trampoline-park/
CATEGORIES:Enfance - Jeunesse,Maison Jacques Prévert
ATTACH;FMTTYPE=image/jpeg:https://www.maisonjacquesprevert.fr/wp-content/uploads/2024/02/Capture-decran-2024-02-27-a-11.15.47.jpg
END:VEVENT
END:VCALENDAR