BEGIN:VCALENDAR
VERSION:2.0
PRODID:-//Maison Jacques Prévert - ECPv6.15.20//NONSGML v1.0//EN
CALSCALE:GREGORIAN
METHOD:PUBLISH
X-WR-CALNAME:Maison Jacques Prévert
X-ORIGINAL-URL:https://www.maisonjacquesprevert.fr
X-WR-CALDESC:Évènements pour Maison Jacques Prévert
REFRESH-INTERVAL;VALUE=DURATION:PT1H
X-Robots-Tag:noindex
X-PUBLISHED-TTL:PT1H
BEGIN:VTIMEZONE
TZID:Europe/Paris
BEGIN:DAYLIGHT
TZOFFSETFROM:+0100
TZOFFSETTO:+0200
TZNAME:CEST
DTSTART:20230326T010000
END:DAYLIGHT
BEGIN:STANDARD
TZOFFSETFROM:+0200
TZOFFSETTO:+0100
TZNAME:CET
DTSTART:20231029T010000
END:STANDARD
BEGIN:DAYLIGHT
TZOFFSETFROM:+0100
TZOFFSETTO:+0200
TZNAME:CEST
DTSTART:20240331T010000
END:DAYLIGHT
BEGIN:STANDARD
TZOFFSETFROM:+0200
TZOFFSETTO:+0100
TZNAME:CET
DTSTART:20241027T010000
END:STANDARD
BEGIN:DAYLIGHT
TZOFFSETFROM:+0100
TZOFFSETTO:+0200
TZNAME:CEST
DTSTART:20250330T010000
END:DAYLIGHT
BEGIN:STANDARD
TZOFFSETFROM:+0200
TZOFFSETTO:+0100
TZNAME:CET
DTSTART:20251026T010000
END:STANDARD
END:VTIMEZONE
BEGIN:VEVENT
DTSTART;TZID=Europe/Paris:20240416T093000
DTEND;TZID=Europe/Paris:20240416T120000
DTSTAMP:20260426T021705
CREATED:20240410T093821Z
LAST-MODIFIED:20240423T074340Z
UID:1425-1713259800-1713268800@www.maisonjacquesprevert.fr
SUMMARY:Couture
DESCRIPTION:Libérez votre créativité ! \nVous rêvez de créer votre propre vêtements et accessoires ? alors ne manquez pas notre prochain atelier couture qui se déroulera le jeudi 16 avril de 14h à 16h30. \n#Couture #Création
URL:https://www.maisonjacquesprevert.fr/evenement/couture-6/
CATEGORIES:Fabrique / Adultes,Maison Jacques Prévert
ATTACH;FMTTYPE=image/jpeg:https://www.maisonjacquesprevert.fr/wp-content/uploads/2024/03/couture-1-rotated.jpg
END:VEVENT
BEGIN:VEVENT
DTSTART;TZID=Europe/Paris:20240416T100000
DTEND;TZID=Europe/Paris:20240416T120000
DTSTAMP:20260426T021705
CREATED:20240410T095051Z
LAST-MODIFIED:20240423T074355Z
UID:1435-1713261600-1713268800@www.maisonjacquesprevert.fr
SUMMARY:Pouvoir dire
DESCRIPTION:explorez le pouvoir des mots et de l’image avec notre atelier  »pouvoir dire » ! Cette série de séances combine l’écriture créative et la photographie pour encourager l’expression personnelle et artistique. \nRejoignez-nous pour une expérience enrichissante où vous pourrez créer et explorer. La prochaine séance a lieu le mardi 16 avril à partir de 10h à la MJP. \n#Photographie #PouvoirDire #Écriture
URL:https://www.maisonjacquesprevert.fr/evenement/pouvoir-dire/
CATEGORIES:Fabrique / Adultes,Maison Jacques Prévert
ATTACH;FMTTYPE=image/jpeg:https://www.maisonjacquesprevert.fr/wp-content/uploads/2024/04/Capture-decran-2024-04-10-a-11.46.38.jpg
END:VEVENT
BEGIN:VEVENT
DTSTART;TZID=Europe/Paris:20240416T140000
DTEND;TZID=Europe/Paris:20240416T160000
DTSTAMP:20260426T021705
CREATED:20240410T094042Z
LAST-MODIFIED:20240411T145539Z
UID:1427-1713276000-1713283200@www.maisonjacquesprevert.fr
SUMMARY:Tricot - crochet
DESCRIPTION:Rejoignez-nous pour partager des astuces\, des modèles et passer un bon moment en compagnie d’autre passionnées de tricot et de crochet. \nL’événement ce passe mardi 16 avril de 14h à 16h. \n#TricotEtCrochet #Passionnées
URL:https://www.maisonjacquesprevert.fr/evenement/tricot-crochet/
CATEGORIES:Fabrique / Adultes,Maison Jacques Prévert
ATTACH;FMTTYPE=image/jpeg:https://www.maisonjacquesprevert.fr/wp-content/uploads/2024/03/Capture-decran-2024-03-20-a-11.01.11.jpg
END:VEVENT
END:VCALENDAR