BEGIN:VCALENDAR
VERSION:2.0
PRODID:-//Maison Jacques Prévert - ECPv6.15.20//NONSGML v1.0//EN
CALSCALE:GREGORIAN
METHOD:PUBLISH
X-ORIGINAL-URL:https://www.maisonjacquesprevert.fr
X-WR-CALDESC:Évènements pour Maison Jacques Prévert
REFRESH-INTERVAL;VALUE=DURATION:PT1H
X-Robots-Tag:noindex
X-PUBLISHED-TTL:PT1H
BEGIN:VTIMEZONE
TZID:Europe/Paris
BEGIN:DAYLIGHT
TZOFFSETFROM:+0100
TZOFFSETTO:+0200
TZNAME:CEST
DTSTART:20230326T010000
END:DAYLIGHT
BEGIN:STANDARD
TZOFFSETFROM:+0200
TZOFFSETTO:+0100
TZNAME:CET
DTSTART:20231029T010000
END:STANDARD
BEGIN:DAYLIGHT
TZOFFSETFROM:+0100
TZOFFSETTO:+0200
TZNAME:CEST
DTSTART:20240331T010000
END:DAYLIGHT
BEGIN:STANDARD
TZOFFSETFROM:+0200
TZOFFSETTO:+0100
TZNAME:CET
DTSTART:20241027T010000
END:STANDARD
BEGIN:DAYLIGHT
TZOFFSETFROM:+0100
TZOFFSETTO:+0200
TZNAME:CEST
DTSTART:20250330T010000
END:DAYLIGHT
BEGIN:STANDARD
TZOFFSETFROM:+0200
TZOFFSETTO:+0100
TZNAME:CET
DTSTART:20251026T010000
END:STANDARD
END:VTIMEZONE
BEGIN:VEVENT
DTSTART;TZID=Europe/Paris:20240424T140000
DTEND;TZID=Europe/Paris:20240424T163000
DTSTAMP:20260426T034909
CREATED:20240410T135547Z
LAST-MODIFIED:20240423T074215Z
UID:1457-1713967200-1713976200@www.maisonjacquesprevert.fr
SUMMARY:Atelier DIY ''bouquet de fleur en papier''
DESCRIPTION:Plongez dans l’univers enchanté des fleurs avec notre atelier DIY de création de bouquets en papier ! Rejoignez-nous pour une séance créative et ludique où vous apprendrez à fabriquer de magnifiques fleurs en papier. Que vous soyez débutant ou bricoleur aguerri\, cet atelier est ouvert à tous ceux qui souhaitent s’initier à l’art du papier floral. Laissez libre cours à votre créativité en choisissant vos couleurs préférées et en composant votre propre bouquet unique le mercredi 24 avril à 14h. \n#BouquetDeFleurs
URL:https://www.maisonjacquesprevert.fr/evenement/atelier-diy-bouquet-de-fleur-en-papier/
CATEGORIES:Fabrique / Adultes,Maison Jacques Prévert
ATTACH;FMTTYPE=image/jpeg:https://www.maisonjacquesprevert.fr/wp-content/uploads/2024/04/Capture-decran-2024-04-10-a-15.48.47.jpg
END:VEVENT
END:VCALENDAR