BEGIN:VCALENDAR
VERSION:2.0
PRODID:-//Maison Jacques Prévert - ECPv6.15.20//NONSGML v1.0//EN
CALSCALE:GREGORIAN
METHOD:PUBLISH
X-ORIGINAL-URL:https://www.maisonjacquesprevert.fr
X-WR-CALDESC:Évènements pour Maison Jacques Prévert
REFRESH-INTERVAL;VALUE=DURATION:PT1H
X-Robots-Tag:noindex
X-PUBLISHED-TTL:PT1H
BEGIN:VTIMEZONE
TZID:Europe/Paris
BEGIN:DAYLIGHT
TZOFFSETFROM:+0100
TZOFFSETTO:+0200
TZNAME:CEST
DTSTART:20230326T010000
END:DAYLIGHT
BEGIN:STANDARD
TZOFFSETFROM:+0200
TZOFFSETTO:+0100
TZNAME:CET
DTSTART:20231029T010000
END:STANDARD
BEGIN:DAYLIGHT
TZOFFSETFROM:+0100
TZOFFSETTO:+0200
TZNAME:CEST
DTSTART:20240331T010000
END:DAYLIGHT
BEGIN:STANDARD
TZOFFSETFROM:+0200
TZOFFSETTO:+0100
TZNAME:CET
DTSTART:20241027T010000
END:STANDARD
BEGIN:DAYLIGHT
TZOFFSETFROM:+0100
TZOFFSETTO:+0200
TZNAME:CEST
DTSTART:20250330T010000
END:DAYLIGHT
BEGIN:STANDARD
TZOFFSETFROM:+0200
TZOFFSETTO:+0100
TZNAME:CET
DTSTART:20251026T010000
END:STANDARD
END:VTIMEZONE
BEGIN:VEVENT
DTSTART;TZID=Europe/Paris:20240524T090000
DTEND;TZID=Europe/Paris:20240524T120000
DTSTAMP:20260426T005627
CREATED:20240521T130152Z
LAST-MODIFIED:20240521T130152Z
UID:1644-1716541200-1716552000@www.maisonjacquesprevert.fr
SUMMARY:On marche
DESCRIPTION:Venez parcourir 6\,1 kms en suivant le circuit Saint-Aignan-des-Gués \nLe rendez-vous est fixé à 9h pour une expérience en pleine air\, profitez de l’air frais et des paysages magnifiques tout en vous ressourçant lors de cette excursion. \n#OnMarche
URL:https://www.maisonjacquesprevert.fr/evenement/on-marche-4/
CATEGORIES:Fabrique / Adultes,Maison Jacques Prévert
ATTACH;FMTTYPE=image/jpeg:https://www.maisonjacquesprevert.fr/wp-content/uploads/2024/04/Capture-decran-2024-04-10-a-11.53.39.jpg
END:VEVENT
BEGIN:VEVENT
DTSTART;TZID=Europe/Paris:20240524T100000
DTEND;TZID=Europe/Paris:20240524T120000
DTSTAMP:20260426T005627
CREATED:20240521T123522Z
LAST-MODIFIED:20240522T082036Z
UID:1640-1716544800-1716552000@www.maisonjacquesprevert.fr
SUMMARY:Si on chantait
DESCRIPTION:Envie de laisser libre cours à votre voix et de montrer vos talents de chant ? Rejoignez-nous pour notre activité  »Si on chantait » ce vendredi 24 mai de 10h à 12h ! \nPas besoin d’être professionnel\, l’important est de partager notre passion pour la musique et de s’amuser ensemble ! \n#SiOnChantait #Musique #Convivialité
URL:https://www.maisonjacquesprevert.fr/evenement/si-on-chantait-6/
CATEGORIES:Fabrique / Adultes,Maison Jacques Prévert
ATTACH;FMTTYPE=image/jpeg:https://www.maisonjacquesprevert.fr/wp-content/uploads/2024/03/si-on-chantait.jpg
END:VEVENT
BEGIN:VEVENT
DTSTART;TZID=Europe/Paris:20240524T140000
DTEND;TZID=Europe/Paris:20240524T163000
DTSTAMP:20260426T005627
CREATED:20240521T131028Z
LAST-MODIFIED:20240521T131653Z
UID:1647-1716559200-1716568200@www.maisonjacquesprevert.fr
SUMMARY:Couture
DESCRIPTION:Libérez votre créativité ! \nVous rêvez de créer votre propre vêtements et accessoires ? alors ne manquez pas notre prochain atelier couture qui se déroulera le vendredi 24 mai de 14h à 16h30. \n#Couture #Création
URL:https://www.maisonjacquesprevert.fr/evenement/couture-13/
CATEGORIES:Événement à la une,Fabrique / Adultes,Maison Jacques Prévert
ATTACH;FMTTYPE=image/jpeg:https://www.maisonjacquesprevert.fr/wp-content/uploads/2024/05/couture-1.jpg
END:VEVENT
END:VCALENDAR