BEGIN:VCALENDAR
VERSION:2.0
PRODID:-//Maison Jacques Prévert - ECPv6.15.20//NONSGML v1.0//EN
CALSCALE:GREGORIAN
METHOD:PUBLISH
X-ORIGINAL-URL:https://www.maisonjacquesprevert.fr
X-WR-CALDESC:Évènements pour Maison Jacques Prévert
REFRESH-INTERVAL;VALUE=DURATION:PT1H
X-Robots-Tag:noindex
X-PUBLISHED-TTL:PT1H
BEGIN:VTIMEZONE
TZID:Europe/Paris
BEGIN:DAYLIGHT
TZOFFSETFROM:+0100
TZOFFSETTO:+0200
TZNAME:CEST
DTSTART:20230326T010000
END:DAYLIGHT
BEGIN:STANDARD
TZOFFSETFROM:+0200
TZOFFSETTO:+0100
TZNAME:CET
DTSTART:20231029T010000
END:STANDARD
BEGIN:DAYLIGHT
TZOFFSETFROM:+0100
TZOFFSETTO:+0200
TZNAME:CEST
DTSTART:20240331T010000
END:DAYLIGHT
BEGIN:STANDARD
TZOFFSETFROM:+0200
TZOFFSETTO:+0100
TZNAME:CET
DTSTART:20241027T010000
END:STANDARD
BEGIN:DAYLIGHT
TZOFFSETFROM:+0100
TZOFFSETTO:+0200
TZNAME:CEST
DTSTART:20250330T010000
END:DAYLIGHT
BEGIN:STANDARD
TZOFFSETFROM:+0200
TZOFFSETTO:+0100
TZNAME:CET
DTSTART:20251026T010000
END:STANDARD
END:VTIMEZONE
BEGIN:VEVENT
DTSTART;TZID=Europe/Paris:20240606T091500
DTEND;TZID=Europe/Paris:20240606T120000
DTSTAMP:20260425T232114
CREATED:20240604T142457Z
LAST-MODIFIED:20240604T142457Z
UID:1714-1717665300-1717675200@www.maisonjacquesprevert.fr
SUMMARY:Cuisine et jardin
DESCRIPTION:Une journée bien remplie entre cuisine et jardinage ! Rendez-vous jeudi 6 juin à partir de 9h15 jusqu’a 12h à la Maison Jacques Prévert. \n#Cuisine #Jardinage
URL:https://www.maisonjacquesprevert.fr/evenement/cuisine-et-jardin-3/
CATEGORIES:Fabrique / Adultes,Maison Jacques Prévert
ATTACH;FMTTYPE=image/jpeg:https://www.maisonjacquesprevert.fr/wp-content/uploads/2024/05/cuisine-et-jardin.jpg
END:VEVENT
BEGIN:VEVENT
DTSTART;TZID=Europe/Paris:20240606T140000
DTEND;TZID=Europe/Paris:20240606T144500
DTSTAMP:20260425T232114
CREATED:20240604T143212Z
LAST-MODIFIED:20240604T143212Z
UID:1720-1717682400-1717685100@www.maisonjacquesprevert.fr
SUMMARY:Gym douce
DESCRIPTION:Reconnectez-vous avec votre corps et votre esprit lors de notre séance de gym douce ce jeudi 6 juin de 14h à 14h45 en compagnie des adhérents de la Maison Jacques Prévert ! \nRejoignez-nous pour une petite heure de détente et de bien être pour des exercices simples afin de renforcer nos muscles\, améliorer notre souplesse et apaiser notre esprit. \n#MaisonJacquesPrévert #GymDouce #BienÊtre
URL:https://www.maisonjacquesprevert.fr/evenement/gym-douce-5/
CATEGORIES:Fabrique / Adultes,Maison Jacques Prévert
ATTACH;FMTTYPE=image/jpeg:https://www.maisonjacquesprevert.fr/wp-content/uploads/2024/05/Capture-decran-2024-05-15-a-11.37.33.jpg
END:VEVENT
BEGIN:VEVENT
DTSTART;TZID=Europe/Paris:20240606T140000
DTEND;TZID=Europe/Paris:20240606T163000
DTSTAMP:20260425T232114
CREATED:20240604T142909Z
LAST-MODIFIED:20240604T142909Z
UID:1717-1717682400-1717691400@www.maisonjacquesprevert.fr
SUMMARY:Couture
DESCRIPTION:Libérez votre créativité ! \nVous rêvez de créer votre propre vêtements et accessoires ? alors ne manquez pas notre prochain atelier couture qui se déroulera le jeudi 6 juin de 14h à 16h30. \n#Couture #Création
URL:https://www.maisonjacquesprevert.fr/evenement/couture-17/
CATEGORIES:Fabrique / Adultes,Maison Jacques Prévert
ATTACH;FMTTYPE=image/jpeg:https://www.maisonjacquesprevert.fr/wp-content/uploads/2024/05/couture.jpg
END:VEVENT
END:VCALENDAR