BEGIN:VCALENDAR
VERSION:2.0
PRODID:-//Maison Jacques Prévert - ECPv6.15.20//NONSGML v1.0//EN
CALSCALE:GREGORIAN
METHOD:PUBLISH
X-ORIGINAL-URL:https://www.maisonjacquesprevert.fr
X-WR-CALDESC:Évènements pour Maison Jacques Prévert
REFRESH-INTERVAL;VALUE=DURATION:PT1H
X-Robots-Tag:noindex
X-PUBLISHED-TTL:PT1H
BEGIN:VTIMEZONE
TZID:Europe/Paris
BEGIN:DAYLIGHT
TZOFFSETFROM:+0100
TZOFFSETTO:+0200
TZNAME:CEST
DTSTART:20230326T010000
END:DAYLIGHT
BEGIN:STANDARD
TZOFFSETFROM:+0200
TZOFFSETTO:+0100
TZNAME:CET
DTSTART:20231029T010000
END:STANDARD
BEGIN:DAYLIGHT
TZOFFSETFROM:+0100
TZOFFSETTO:+0200
TZNAME:CEST
DTSTART:20240331T010000
END:DAYLIGHT
BEGIN:STANDARD
TZOFFSETFROM:+0200
TZOFFSETTO:+0100
TZNAME:CET
DTSTART:20241027T010000
END:STANDARD
BEGIN:DAYLIGHT
TZOFFSETFROM:+0100
TZOFFSETTO:+0200
TZNAME:CEST
DTSTART:20250330T010000
END:DAYLIGHT
BEGIN:STANDARD
TZOFFSETFROM:+0200
TZOFFSETTO:+0100
TZNAME:CET
DTSTART:20251026T010000
END:STANDARD
END:VTIMEZONE
BEGIN:VEVENT
DTSTART;TZID=Europe/Paris:20240725T090000
DTEND;TZID=Europe/Paris:20240725T160000
DTSTAMP:20260425T214527
CREATED:20240718T092218Z
LAST-MODIFIED:20240718T092218Z
UID:1835-1721898000-1721923200@www.maisonjacquesprevert.fr
SUMMARY:On marche
DESCRIPTION:Venez parcourir 11 kms en marchant à St Pierre en Pont \nLe rendez-vous est fixé à 9h pour une expérience en pleine air\, profitez de l’air frais et des paysages magnifiques tout en vous ressourçant lors de cette excursion. \nPrévoyez un pique nique. \n#OnMarche
URL:https://www.maisonjacquesprevert.fr/evenement/on-marche-7/
CATEGORIES:Fabrique / Adultes,Maison Jacques Prévert
ATTACH;FMTTYPE=image/jpeg:https://www.maisonjacquesprevert.fr/wp-content/uploads/2024/05/Capture-decran-2024-05-22-a-11.29.23.jpg
END:VEVENT
BEGIN:VEVENT
DTSTART;TZID=Europe/Paris:20240725T100000
DTEND;TZID=Europe/Paris:20240725T150000
DTSTAMP:20260425T214527
CREATED:20240718T093718Z
LAST-MODIFIED:20240718T093718Z
UID:1837-1721901600-1721919600@www.maisonjacquesprevert.fr
SUMMARY:Pêche à pied
DESCRIPTION:Rejoignez-nous pour une activité pêche à pied à la plage de Dieppe de 10h à 15h. \n(Prévoir un pique nique)
URL:https://www.maisonjacquesprevert.fr/evenement/peche-a-pied/
CATEGORIES:Fabrique / Adultes,Maison Jacques Prévert
ATTACH;FMTTYPE=image/jpeg:https://www.maisonjacquesprevert.fr/wp-content/uploads/2024/07/Capture-decran-2024-07-18-a-11.25.19.jpg
END:VEVENT
BEGIN:VEVENT
DTSTART;TZID=Europe/Paris:20240725T140000
DTEND;TZID=Europe/Paris:20240725T160000
DTSTAMP:20260425T214527
CREATED:20240718T094036Z
LAST-MODIFIED:20240718T094036Z
UID:1841-1721916000-1721923200@www.maisonjacquesprevert.fr
SUMMARY:Couture
DESCRIPTION:Libérez votre créativité ! \nVous rêvez de créer votre propre vêtements et accessoires ? alors ne manquez pas notre prochain atelier couture qui se déroulera le jeudi 25 juin de 14h à 16h30. \n#Couture #Création
URL:https://www.maisonjacquesprevert.fr/evenement/couture-20/
CATEGORIES:Fabrique / Adultes,Maison Jacques Prévert
ATTACH;FMTTYPE=image/jpeg:https://www.maisonjacquesprevert.fr/wp-content/uploads/2024/05/couture-1.jpg
END:VEVENT
BEGIN:VEVENT
DTSTART;TZID=Europe/Paris:20240725T140000
DTEND;TZID=Europe/Paris:20240725T170000
DTSTAMP:20260425T214527
CREATED:20240723T080336Z
LAST-MODIFIED:20240724T081025Z
UID:1857-1721916000-1721926800@www.maisonjacquesprevert.fr
SUMMARY:Écriture et chant
DESCRIPTION:Atelier écriture et chant pour le groupe des 8-10 ans jeudi 25 juillet. \nRestitution de leur travail vendredi 26 juillet à 17h au sein de l’école Jules Ferry.
URL:https://www.maisonjacquesprevert.fr/evenement/1857/
CATEGORIES:Enfance - Jeunesse,Maison Jacques Prévert
ATTACH;FMTTYPE=image/jpeg:https://www.maisonjacquesprevert.fr/wp-content/uploads/2024/07/Capture-decran-2024-07-23-a-09.46.51.jpg
END:VEVENT
BEGIN:VEVENT
DTSTART;TZID=Europe/Paris:20240725T140000
DTEND;TZID=Europe/Paris:20240725T180000
DTSTAMP:20260425T214527
CREATED:20240718T121727Z
LAST-MODIFIED:20240718T121727Z
UID:1845-1721916000-1721930400@www.maisonjacquesprevert.fr
SUMMARY:Animation de quartier
DESCRIPTION:Rejoignez-nous pour une après-midi conviviale et enrichissante au quartier des bruyères\, animée avec Aurélien et l’équipe de La petite Conserverie. Cet événement est conçu pour rassembler les habitants du quartier autour d’activités dans une ambiance chaleureuse et festive.
URL:https://www.maisonjacquesprevert.fr/evenement/animation-de-quartier-2/
CATEGORIES:Famille,Maison Jacques Prévert
ATTACH;FMTTYPE=image/jpeg:https://www.maisonjacquesprevert.fr/wp-content/uploads/2024/07/Animation-de-quartier-aux-Bruyeres1-1.jpg
END:VEVENT
END:VCALENDAR