BEGIN:VCALENDAR
VERSION:2.0
PRODID:-//Maison Jacques Prévert - ECPv6.15.20//NONSGML v1.0//EN
CALSCALE:GREGORIAN
METHOD:PUBLISH
X-WR-CALNAME:Maison Jacques Prévert
X-ORIGINAL-URL:https://www.maisonjacquesprevert.fr
X-WR-CALDESC:Évènements pour Maison Jacques Prévert
REFRESH-INTERVAL;VALUE=DURATION:PT1H
X-Robots-Tag:noindex
X-PUBLISHED-TTL:PT1H
BEGIN:VTIMEZONE
TZID:Europe/Paris
BEGIN:DAYLIGHT
TZOFFSETFROM:+0100
TZOFFSETTO:+0200
TZNAME:CEST
DTSTART:20230326T010000
END:DAYLIGHT
BEGIN:STANDARD
TZOFFSETFROM:+0200
TZOFFSETTO:+0100
TZNAME:CET
DTSTART:20231029T010000
END:STANDARD
BEGIN:DAYLIGHT
TZOFFSETFROM:+0100
TZOFFSETTO:+0200
TZNAME:CEST
DTSTART:20240331T010000
END:DAYLIGHT
BEGIN:STANDARD
TZOFFSETFROM:+0200
TZOFFSETTO:+0100
TZNAME:CET
DTSTART:20241027T010000
END:STANDARD
BEGIN:DAYLIGHT
TZOFFSETFROM:+0100
TZOFFSETTO:+0200
TZNAME:CEST
DTSTART:20250330T010000
END:DAYLIGHT
BEGIN:STANDARD
TZOFFSETFROM:+0200
TZOFFSETTO:+0100
TZNAME:CET
DTSTART:20251026T010000
END:STANDARD
END:VTIMEZONE
BEGIN:VEVENT
DTSTART;TZID=Europe/Paris:20240726T093000
DTEND;TZID=Europe/Paris:20240726T120000
DTSTAMP:20260425T214126
CREATED:20240724T080736Z
LAST-MODIFIED:20240724T080747Z
UID:1861-1721986200-1721995200@www.maisonjacquesprevert.fr
SUMMARY:Initiation peinture
DESCRIPTION:Rejoignez-nous pour une initiation peinture sur porcelaine ou faïence avec Céline de 9h30 à 12h et repartez avec votre chef-d’oeuvre. \n 
URL:https://www.maisonjacquesprevert.fr/evenement/initiation-peinture/
CATEGORIES:Fabrique / Adultes,Maison Jacques Prévert
ATTACH;FMTTYPE=image/jpeg:https://www.maisonjacquesprevert.fr/wp-content/uploads/2024/07/Capture-decran-2024-07-24-a-09.48.51.jpg
END:VEVENT
BEGIN:VEVENT
DTSTART;TZID=Europe/Paris:20240726T140000
DTEND;TZID=Europe/Paris:20240726T163000
DTSTAMP:20260425T214126
CREATED:20240724T082005Z
LAST-MODIFIED:20240724T082246Z
UID:1868-1722002400-1722011400@www.maisonjacquesprevert.fr
SUMMARY:Couture
DESCRIPTION:Libérez votre créativité ! \nVous rêvez de créer votre propre vêtements et accessoires ? alors ne manquez pas notre prochain atelier couture qui se déroulera le jeudi 26 juillet de 14h à 16h30. \n#Couture #Création
URL:https://www.maisonjacquesprevert.fr/evenement/couture-21/
CATEGORIES:Fabrique / Adultes,Maison Jacques Prévert
ATTACH;FMTTYPE=image/jpeg:https://www.maisonjacquesprevert.fr/wp-content/uploads/2024/05/couture.jpg
END:VEVENT
BEGIN:VEVENT
DTSTART;TZID=Europe/Paris:20240726T140000
DTEND;TZID=Europe/Paris:20240726T170000
DTSTAMP:20260425T214126
CREATED:20240724T084636Z
LAST-MODIFIED:20240724T084636Z
UID:1871-1722002400-1722013200@www.maisonjacquesprevert.fr
SUMMARY:Karaoké et gouter partagé
DESCRIPTION:N’hésitez-pas à venir nous montrer vos talents de chant tout en s’amusant durant une après-midi karaoké à la micro-folie de la Maison Jacques Prévert de 14h à 17h. \n#Karaoké #Amusement
URL:https://www.maisonjacquesprevert.fr/evenement/karaoke-et-gouter-partage/
CATEGORIES:Fabrique / Adultes,Maison Jacques Prévert
ATTACH;FMTTYPE=image/jpeg:https://www.maisonjacquesprevert.fr/wp-content/uploads/2024/07/Capture-decran-2024-07-24-a-10.39.13.jpg
END:VEVENT
END:VCALENDAR