BEGIN:VCALENDAR
VERSION:2.0
PRODID:-//Maison Jacques Prévert - ECPv6.15.20//NONSGML v1.0//EN
CALSCALE:GREGORIAN
METHOD:PUBLISH
X-ORIGINAL-URL:https://www.maisonjacquesprevert.fr
X-WR-CALDESC:Évènements pour Maison Jacques Prévert
REFRESH-INTERVAL;VALUE=DURATION:PT1H
X-Robots-Tag:noindex
X-PUBLISHED-TTL:PT1H
BEGIN:VTIMEZONE
TZID:Europe/Paris
BEGIN:DAYLIGHT
TZOFFSETFROM:+0100
TZOFFSETTO:+0200
TZNAME:CEST
DTSTART:20240331T010000
END:DAYLIGHT
BEGIN:STANDARD
TZOFFSETFROM:+0200
TZOFFSETTO:+0100
TZNAME:CET
DTSTART:20241027T010000
END:STANDARD
BEGIN:DAYLIGHT
TZOFFSETFROM:+0100
TZOFFSETTO:+0200
TZNAME:CEST
DTSTART:20250330T010000
END:DAYLIGHT
BEGIN:STANDARD
TZOFFSETFROM:+0200
TZOFFSETTO:+0100
TZNAME:CET
DTSTART:20251026T010000
END:STANDARD
BEGIN:DAYLIGHT
TZOFFSETFROM:+0100
TZOFFSETTO:+0200
TZNAME:CEST
DTSTART:20260329T010000
END:DAYLIGHT
BEGIN:STANDARD
TZOFFSETFROM:+0200
TZOFFSETTO:+0100
TZNAME:CET
DTSTART:20261025T010000
END:STANDARD
END:VTIMEZONE
BEGIN:VEVENT
DTSTART;TZID=Europe/Paris:20250910T100000
DTEND;TZID=Europe/Paris:20250910T113000
DTSTAMP:20260424T184101
CREATED:20250901T154847Z
LAST-MODIFIED:20250901T155210Z
UID:2472-1757498400-1757503800@www.maisonjacquesprevert.fr
SUMMARY:Atelier dessin junior
DESCRIPTION:Atelier Dessin toutes pratiques avec Laurent Messager\nmercredi de 10h-11h30 I enfants 7/10 ans\nDessin\, BD\, Manga\, illustration\, aquarelle\, graphisme\, peinture\, tout est possible à la Maison Jacques Prévert\, votre seule limite c’est votre imagination.\nAvec Laurent Messager\, artiste peintre et sculpteur professionnel qui vous guidera pour progresser\, vous pourrez exprimer votre créativité sans contrainte. \nEt bien sûr tout le matériel est fourni\, on peut même faire du dessin sur tablette.
URL:https://www.maisonjacquesprevert.fr/evenement/atelier-dessin-junior/
LOCATION:Maison Jacques Prévert\, Rue Montigny\, Dieppe\, 76200\, France
CATEGORIES:Enfance - Jeunesse,Maison Jacques Prévert
ATTACH;FMTTYPE=image/jpeg:https://www.maisonjacquesprevert.fr/wp-content/uploads/2025/09/AdobeStock_1014396099.jpeg
ORGANIZER;CN="Maison Jacques Pr%C3%A9vert":MAILTO:contact@maisonjacquesprevert.fr
END:VEVENT
END:VCALENDAR